BEGIN:VCALENDAR
VERSION:2.0
PRODID:-//Wijkmuseum Soesterkwartier - ECPv6.15.16//NONSGML v1.0//EN
CALSCALE:GREGORIAN
METHOD:PUBLISH
X-WR-CALNAME:Wijkmuseum Soesterkwartier
X-ORIGINAL-URL:https://wijkmuseumsoesterkwartier.nl
X-WR-CALDESC:Evenementen voor Wijkmuseum Soesterkwartier
REFRESH-INTERVAL;VALUE=DURATION:PT1H
X-Robots-Tag:noindex
X-PUBLISHED-TTL:PT1H
BEGIN:VTIMEZONE
TZID:Europe/Amsterdam
BEGIN:DAYLIGHT
TZOFFSETFROM:+0100
TZOFFSETTO:+0200
TZNAME:CEST
DTSTART:20240331T010000
END:DAYLIGHT
BEGIN:STANDARD
TZOFFSETFROM:+0200
TZOFFSETTO:+0100
TZNAME:CET
DTSTART:20241027T010000
END:STANDARD
BEGIN:DAYLIGHT
TZOFFSETFROM:+0100
TZOFFSETTO:+0200
TZNAME:CEST
DTSTART:20250330T010000
END:DAYLIGHT
BEGIN:STANDARD
TZOFFSETFROM:+0200
TZOFFSETTO:+0100
TZNAME:CET
DTSTART:20251026T010000
END:STANDARD
BEGIN:DAYLIGHT
TZOFFSETFROM:+0100
TZOFFSETTO:+0200
TZNAME:CEST
DTSTART:20260329T010000
END:DAYLIGHT
BEGIN:STANDARD
TZOFFSETFROM:+0200
TZOFFSETTO:+0100
TZNAME:CET
DTSTART:20261025T010000
END:STANDARD
END:VTIMEZONE
BEGIN:VEVENT
DTSTART;TZID=Europe/Amsterdam:20250802T130000
DTEND;TZID=Europe/Amsterdam:20250802T150000
DTSTAMP:20260425T180009
CREATED:20250719T080520Z
LAST-MODIFIED:20250719T080520Z
UID:8240-1754139600-1754146800@wijkmuseumsoesterkwartier.nl
SUMMARY:Kinderworkshop sleutelhanger maken
DESCRIPTION:Ontdek in het museum de tentoonstelling ‘Verenigd Soesterkwartier’. Na afloop kun je aan de knutseltafel jouw favoriete circusfiguur op een sleutelhanger van kurk tekenen en kleuren. Wordt het een sterke man\, clown of acrobaat. \nWanneer: 2 augustus\nTijd: 13.00-15.00 uur\nWaar: Wijkmuseum Soesterkwartier\nKosten: gratis\nAanmelden via: niet nodig\, maar begeleiding van een ouder/verzorger is verplicht. \nVergeet je ZomerPretPas niet!
URL:https://wijkmuseumsoesterkwartier.nl/evenement_sws/kinderworkshop-sleutelhanger-maken-5/
LOCATION:Wijkmuseum Soesterkwartier\, st. Bonifaciusstraat 61\, Amersfoort\, 3812 TD\, Nederland
CATEGORIES:Kinderactiviteit
ATTACH;FMTTYPE=image/jpeg:https://wijkmuseumsoesterkwartier.nl/wp-content/uploads/2025/07/ZPP_agenda_42.jpg
END:VEVENT
BEGIN:VEVENT
DTSTART;TZID=Europe/Amsterdam:20250802T133000
DTEND;TZID=Europe/Amsterdam:20250802T150000
DTSTAMP:20260425T180009
CREATED:20250719T082323Z
LAST-MODIFIED:20250719T082323Z
UID:8258-1754141400-1754146800@wijkmuseumsoesterkwartier.nl
SUMMARY:Kinderworkshop vakantiepost
DESCRIPTION:Kom langs in het museum en schrijf\, teken en kleur een ansichtkaart voor oudere mensen in Amersfoort die in de zomervakantie geen post krijgen. Wij zorgen dat jouw kaart iemand blij gaat maken. \nWanneer: 2 augustus\nTijd: 13.30-15.00 uur\nWaar: Wijkmuseum Soesterkwartier\nAanmelden: niet nodig maar begeleiding van een ouder/verzorger is verplicht. \nVergeet je ZomerPretPas niet!
URL:https://wijkmuseumsoesterkwartier.nl/evenement_sws/kinderworkshop-vakantiepost-3/
LOCATION:Wijkmuseum Soesterkwartier\, st. Bonifaciusstraat 61\, Amersfoort\, 3812 TD\, Nederland
CATEGORIES:Kinderactiviteit
ATTACH;FMTTYPE=image/jpeg:https://wijkmuseumsoesterkwartier.nl/wp-content/uploads/2025/07/ZPP_agenda_44.jpg
END:VEVENT
BEGIN:VEVENT
DTSTART;TZID=Europe/Amsterdam:20250806T133000
DTEND;TZID=Europe/Amsterdam:20250806T150000
DTSTAMP:20260425T180009
CREATED:20250719T081904Z
LAST-MODIFIED:20250719T081904Z
UID:8250-1754487000-1754492400@wijkmuseumsoesterkwartier.nl
SUMMARY:Kinderworkshop vakantiepost
DESCRIPTION:Kom langs in het museum en schrijf\, teken en kleur een ansichtkaart voor oudere mensen in Amersfoort die in de zomervakantie geen post krijgen. Wij zorgen dat jouw kaart iemand blij gaat maken. \nWanneer: 6 augustus\nTijd: 13.30-15.00 uur\nWaar: Wijkmuseum Soesterkwartier\nAanmelden: niet nodig maar begeleiding van een ouder/verzorger is verplicht. \nVergeet je ZomerPretPas niet!
URL:https://wijkmuseumsoesterkwartier.nl/evenement_sws/kinderworkshop-vakantiepost-2/
LOCATION:Wijkmuseum Soesterkwartier\, st. Bonifaciusstraat 61\, Amersfoort\, 3812 TD\, Nederland
CATEGORIES:Kinderactiviteit
ATTACH;FMTTYPE=image/jpeg:https://wijkmuseumsoesterkwartier.nl/wp-content/uploads/2025/07/ZPP_agenda_44.jpg
END:VEVENT
BEGIN:VEVENT
DTSTART;TZID=Europe/Amsterdam:20250806T133000
DTEND;TZID=Europe/Amsterdam:20250806T153000
DTSTAMP:20260425T180009
CREATED:20250719T075825Z
LAST-MODIFIED:20250719T075825Z
UID:8231-1754487000-1754494200@wijkmuseumsoesterkwartier.nl
SUMMARY:Kinderworkshop sleutelhanger maken
DESCRIPTION:Ontdek in het museum de tentoonstelling ‘Verenigd Soesterkwartier’. Na afloop kun je aan de knutseltafel jouw favoriete circusfiguur op een sleutelhanger van kurk tekenen en kleuren. Wordt het een sterke man\, clown of acrobaat. \nWanneer: 6 augustus\nTijd: 13.30-15.30 uur\nWaar: Wijkmuseum Soesterkwartier\nKosten: gratis\nAanmelden via: niet nodig\, maar begeleiding van een ouder/verzorger is verplicht. \nVergeet je ZomerPretPas niet!
URL:https://wijkmuseumsoesterkwartier.nl/evenement_sws/kinderworkshop-sleutelhanger-maken/
LOCATION:Wijkmuseum Soesterkwartier\, st. Bonifaciusstraat 61\, Amersfoort\, 3812 TD\, Nederland
CATEGORIES:Kinderactiviteit
ATTACH;FMTTYPE=image/jpeg:https://wijkmuseumsoesterkwartier.nl/wp-content/uploads/2025/07/ZPP_agenda_42.jpg
END:VEVENT
BEGIN:VEVENT
DTSTART;TZID=Europe/Amsterdam:20250809T130000
DTEND;TZID=Europe/Amsterdam:20250809T150000
DTSTAMP:20260425T180009
CREATED:20250719T080617Z
LAST-MODIFIED:20250719T080617Z
UID:8241-1754744400-1754751600@wijkmuseumsoesterkwartier.nl
SUMMARY:Kinderworkshop sleutelhanger maken
DESCRIPTION:Ontdek in het museum de tentoonstelling ‘Verenigd Soesterkwartier’. Na afloop kun je aan de knutseltafel jouw favoriete circusfiguur op een sleutelhanger van kurk tekenen en kleuren. Wordt het een sterke man\, clown of acrobaat. \nWanneer: 9 augustus\nTijd: 13.00-15.00 uur\nWaar: Wijkmuseum Soesterkwartier\nKosten: gratis\nAanmelden via: niet nodig\, maar begeleiding van een ouder/verzorger is verplicht. \nVergeet je ZomerPretPas niet!
URL:https://wijkmuseumsoesterkwartier.nl/evenement_sws/kinderworkshop-sleutelhanger-maken-6/
LOCATION:Wijkmuseum Soesterkwartier\, st. Bonifaciusstraat 61\, Amersfoort\, 3812 TD\, Nederland
CATEGORIES:Kinderactiviteit
ATTACH;FMTTYPE=image/jpeg:https://wijkmuseumsoesterkwartier.nl/wp-content/uploads/2025/07/ZPP_agenda_42.jpg
END:VEVENT
BEGIN:VEVENT
DTSTART;TZID=Europe/Amsterdam:20250809T133000
DTEND;TZID=Europe/Amsterdam:20250809T150000
DTSTAMP:20260425T180009
CREATED:20250719T082356Z
LAST-MODIFIED:20250719T082356Z
UID:8259-1754746200-1754751600@wijkmuseumsoesterkwartier.nl
SUMMARY:Kinderworkshop vakantiepost
DESCRIPTION:Kom langs in het museum en schrijf\, teken en kleur een ansichtkaart voor oudere mensen in Amersfoort die in de zomervakantie geen post krijgen. Wij zorgen dat jouw kaart iemand blij gaat maken. \nWanneer: 9 augustus\nTijd: 13.30-15.00 uur\nWaar: Wijkmuseum Soesterkwartier\nAanmelden: niet nodig maar begeleiding van een ouder/verzorger is verplicht. \nVergeet je ZomerPretPas niet!
URL:https://wijkmuseumsoesterkwartier.nl/evenement_sws/kinderworkshop-vakantiepost-4/
LOCATION:Wijkmuseum Soesterkwartier\, st. Bonifaciusstraat 61\, Amersfoort\, 3812 TD\, Nederland
CATEGORIES:Kinderactiviteit
ATTACH;FMTTYPE=image/jpeg:https://wijkmuseumsoesterkwartier.nl/wp-content/uploads/2025/07/ZPP_agenda_44.jpg
END:VEVENT
BEGIN:VEVENT
DTSTART;TZID=Europe/Amsterdam:20250813T133000
DTEND;TZID=Europe/Amsterdam:20250813T150000
DTSTAMP:20260425T180009
CREATED:20250719T081808Z
LAST-MODIFIED:20250719T081948Z
UID:8251-1755091800-1755097200@wijkmuseumsoesterkwartier.nl
SUMMARY:Kinderworkshop vakantiepost
DESCRIPTION:Kom langs in het museum en schrijf\, teken en kleur een ansichtkaart voor oudere mensen in Amersfoort die in de zomervakantie geen post krijgen. Wij zorgen dat jouw kaart iemand blij gaat maken. \nWanneer: 13 augustus\nTijd: 13.30-15.00 uur\nWaar: Wijkmuseum Soesterkwartier\nAanmelden: niet nodig maar begeleiding van een ouder/verzorger is verplicht. \nVergeet je ZomerPretPas niet!
URL:https://wijkmuseumsoesterkwartier.nl/evenement_sws/8251/
LOCATION:Wijkmuseum Soesterkwartier\, st. Bonifaciusstraat 61\, Amersfoort\, 3812 TD\, Nederland
CATEGORIES:Kinderactiviteit
ATTACH;FMTTYPE=image/jpeg:https://wijkmuseumsoesterkwartier.nl/wp-content/uploads/2025/07/ZPP_agenda_44.jpg
END:VEVENT
BEGIN:VEVENT
DTSTART;TZID=Europe/Amsterdam:20250813T133000
DTEND;TZID=Europe/Amsterdam:20250813T153000
DTSTAMP:20260425T180009
CREATED:20250719T080006Z
LAST-MODIFIED:20250719T080006Z
UID:8234-1755091800-1755099000@wijkmuseumsoesterkwartier.nl
SUMMARY:Kinderworkshop sleutelhanger maken
DESCRIPTION:Ontdek in het museum de tentoonstelling ‘Verenigd Soesterkwartier’. Na afloop kun je aan de knutseltafel jouw favoriete circusfiguur op een sleutelhanger van kurk tekenen en kleuren. Wordt het een sterke man\, clown of acrobaat. \nWanneer: 13 augustus\nTijd: 13.30-15.30 uur\nWaar: Wijkmuseum Soesterkwartier\nKosten: gratis\nAanmelden via: niet nodig\, maar begeleiding van een ouder/verzorger is verplicht. \nVergeet je ZomerPretPas niet!
URL:https://wijkmuseumsoesterkwartier.nl/evenement_sws/kinderworkshop-sleutelhanger-maken-2/
LOCATION:Wijkmuseum Soesterkwartier\, st. Bonifaciusstraat 61\, Amersfoort\, 3812 TD\, Nederland
CATEGORIES:Kinderactiviteit
ATTACH;FMTTYPE=image/jpeg:https://wijkmuseumsoesterkwartier.nl/wp-content/uploads/2025/07/ZPP_agenda_42.jpg
END:VEVENT
BEGIN:VEVENT
DTSTART;TZID=Europe/Amsterdam:20250816T130000
DTEND;TZID=Europe/Amsterdam:20250816T150000
DTSTAMP:20260425T180009
CREATED:20250719T080716Z
LAST-MODIFIED:20250719T080716Z
UID:8242-1755349200-1755356400@wijkmuseumsoesterkwartier.nl
SUMMARY:Kinderworkshop sleutelhanger maken
DESCRIPTION:Ontdek in het museum de tentoonstelling ‘Verenigd Soesterkwartier’. Na afloop kun je aan de knutseltafel jouw favoriete circusfiguur op een sleutelhanger van kurk tekenen en kleuren. Wordt het een sterke man\, clown of acrobaat. \nWanneer: 16 augustus\nTijd: 13.00-15.00 uur\nWaar: Wijkmuseum Soesterkwartier\nKosten: gratis\nAanmelden via: niet nodig\, maar begeleiding van een ouder/verzorger is verplicht. \nVergeet je ZomerPretPas niet!
URL:https://wijkmuseumsoesterkwartier.nl/evenement_sws/kinderworkshop-sleutelhanger-maken-7/
LOCATION:Wijkmuseum Soesterkwartier\, st. Bonifaciusstraat 61\, Amersfoort\, 3812 TD\, Nederland
CATEGORIES:Kinderactiviteit
ATTACH;FMTTYPE=image/jpeg:https://wijkmuseumsoesterkwartier.nl/wp-content/uploads/2025/07/ZPP_agenda_42.jpg
END:VEVENT
BEGIN:VEVENT
DTSTART;TZID=Europe/Amsterdam:20250816T133000
DTEND;TZID=Europe/Amsterdam:20250816T150000
DTSTAMP:20260425T180009
CREATED:20250719T082433Z
LAST-MODIFIED:20250719T082433Z
UID:8260-1755351000-1755356400@wijkmuseumsoesterkwartier.nl
SUMMARY:Kinderworkshop vakantiepost
DESCRIPTION:Kom langs in het museum en schrijf\, teken en kleur een ansichtkaart voor oudere mensen in Amersfoort die in de zomervakantie geen post krijgen. Wij zorgen dat jouw kaart iemand blij gaat maken. \nWanneer: 16 augustus\nTijd: 13.30-15.00 uur\nWaar: Wijkmuseum Soesterkwartier\nAanmelden: niet nodig maar begeleiding van een ouder/verzorger is verplicht. \nVergeet je ZomerPretPas niet!
URL:https://wijkmuseumsoesterkwartier.nl/evenement_sws/kinderworkshop-vakantiepost-5/
LOCATION:Wijkmuseum Soesterkwartier\, st. Bonifaciusstraat 61\, Amersfoort\, 3812 TD\, Nederland
CATEGORIES:Kinderactiviteit
ATTACH;FMTTYPE=image/jpeg:https://wijkmuseumsoesterkwartier.nl/wp-content/uploads/2025/07/ZPP_agenda_44.jpg
END:VEVENT
BEGIN:VEVENT
DTSTART;TZID=Europe/Amsterdam:20250820T133000
DTEND;TZID=Europe/Amsterdam:20250820T150000
DTSTAMP:20260425T180009
CREATED:20250719T081855Z
LAST-MODIFIED:20250719T081855Z
UID:8252-1755696600-1755702000@wijkmuseumsoesterkwartier.nl
SUMMARY:Kinderworkshop vakantiepost
DESCRIPTION:Kom langs in het museum en schrijf\, teken en kleur een ansichtkaart voor oudere mensen in Amersfoort die in de zomervakantie geen post krijgen. Wij zorgen dat jouw kaart iemand blij gaat maken. \nWanneer: 20 augustus\nTijd: 13.30-15.00 uur\nWaar: Wijkmuseum Soesterkwartier\nAanmelden: niet nodig maar begeleiding van een ouder/verzorger is verplicht. \nVergeet je ZomerPretPas niet!
URL:https://wijkmuseumsoesterkwartier.nl/evenement_sws/kinderworkshop-vakantiepost/
LOCATION:Wijkmuseum Soesterkwartier\, st. Bonifaciusstraat 61\, Amersfoort\, 3812 TD\, Nederland
CATEGORIES:Kinderactiviteit
ATTACH;FMTTYPE=image/jpeg:https://wijkmuseumsoesterkwartier.nl/wp-content/uploads/2025/07/ZPP_agenda_44.jpg
END:VEVENT
BEGIN:VEVENT
DTSTART;TZID=Europe/Amsterdam:20250820T133000
DTEND;TZID=Europe/Amsterdam:20250820T153000
DTSTAMP:20260425T180009
CREATED:20250719T080111Z
LAST-MODIFIED:20250719T080111Z
UID:8235-1755696600-1755703800@wijkmuseumsoesterkwartier.nl
SUMMARY:Kinderworkshop sleutelhanger maken
DESCRIPTION:Ontdek in het museum de tentoonstelling ‘Verenigd Soesterkwartier’. Na afloop kun je aan de knutseltafel jouw favoriete circusfiguur op een sleutelhanger van kurk tekenen en kleuren. Wordt het een sterke man\, clown of acrobaat. \nWanneer: 20 augustus\nTijd: 13.30-15.30 uur\nWaar: Wijkmuseum Soesterkwartier\nKosten: gratis\nAanmelden via: niet nodig\, maar begeleiding van een ouder/verzorger is verplicht. \nVergeet je ZomerPretPas niet!
URL:https://wijkmuseumsoesterkwartier.nl/evenement_sws/kinderworkshop-sleutelhanger-maken-3/
LOCATION:Wijkmuseum Soesterkwartier\, st. Bonifaciusstraat 61\, Amersfoort\, 3812 TD\, Nederland
CATEGORIES:Kinderactiviteit
ATTACH;FMTTYPE=image/jpeg:https://wijkmuseumsoesterkwartier.nl/wp-content/uploads/2025/07/ZPP_agenda_42.jpg
END:VEVENT
BEGIN:VEVENT
DTSTART;TZID=Europe/Amsterdam:20250823T130000
DTEND;TZID=Europe/Amsterdam:20250823T150000
DTSTAMP:20260425T180009
CREATED:20250719T080802Z
LAST-MODIFIED:20250719T080802Z
UID:8243-1755954000-1755961200@wijkmuseumsoesterkwartier.nl
SUMMARY:Kinderworkshop sleutelhanger maken
DESCRIPTION:Ontdek in het museum de tentoonstelling ‘Verenigd Soesterkwartier’. Na afloop kun je aan de knutseltafel jouw favoriete circusfiguur op een sleutelhanger van kurk tekenen en kleuren. Wordt het een sterke man\, clown of acrobaat. \nWanneer: 23 augustus\nTijd: 13.30-15.30 uur\nWaar: Wijkmuseum Soesterkwartier\nKosten: gratis\nAanmelden via: niet nodig\, maar begeleiding van een ouder/verzorger is verplicht. \nVergeet je ZomerPretPas niet!
URL:https://wijkmuseumsoesterkwartier.nl/evenement_sws/kinderworkshop-sleutelhanger-maken-8/
LOCATION:Wijkmuseum Soesterkwartier\, st. Bonifaciusstraat 61\, Amersfoort\, 3812 TD\, Nederland
CATEGORIES:Kinderactiviteit
ATTACH;FMTTYPE=image/jpeg:https://wijkmuseumsoesterkwartier.nl/wp-content/uploads/2025/07/ZPP_agenda_42.jpg
END:VEVENT
BEGIN:VEVENT
DTSTART;TZID=Europe/Amsterdam:20250823T133000
DTEND;TZID=Europe/Amsterdam:20250823T150000
DTSTAMP:20260425T180009
CREATED:20250719T082505Z
LAST-MODIFIED:20250719T082505Z
UID:8261-1755955800-1755961200@wijkmuseumsoesterkwartier.nl
SUMMARY:Kinderworkshop vakantiepost
DESCRIPTION:Kom langs in het museum en schrijf\, teken en kleur een ansichtkaart voor oudere mensen in Amersfoort die in de zomervakantie geen post krijgen. Wij zorgen dat jouw kaart iemand blij gaat maken. \nWanneer: 23 augustus\nTijd: 13.30-15.00 uur\nWaar: Wijkmuseum Soesterkwartier\nAanmelden: niet nodig maar begeleiding van een ouder/verzorger is verplicht. \nVergeet je ZomerPretPas niet!
URL:https://wijkmuseumsoesterkwartier.nl/evenement_sws/kinderworkshop-vakantiepost-6/
LOCATION:Wijkmuseum Soesterkwartier\, st. Bonifaciusstraat 61\, Amersfoort\, 3812 TD\, Nederland
CATEGORIES:Kinderactiviteit
ATTACH;FMTTYPE=image/jpeg:https://wijkmuseumsoesterkwartier.nl/wp-content/uploads/2025/07/ZPP_agenda_44.jpg
END:VEVENT
BEGIN:VEVENT
DTSTART;TZID=Europe/Amsterdam:20250827T133000
DTEND;TZID=Europe/Amsterdam:20250827T153000
DTSTAMP:20260425T180009
CREATED:20250719T080204Z
LAST-MODIFIED:20250719T080204Z
UID:8236-1756301400-1756308600@wijkmuseumsoesterkwartier.nl
SUMMARY:Kinderworkshop sleutelhanger maken
DESCRIPTION:Ontdek in het museum de tentoonstelling ‘Verenigd Soesterkwartier’. Na afloop kun je aan de knutseltafel jouw favoriete circusfiguur op een sleutelhanger van kurk tekenen en kleuren. Wordt het een sterke man\, clown of acrobaat. \nWanneer: 27 augustus\nTijd: 13.30-15.30 uur\nWaar: Wijkmuseum Soesterkwartier\nKosten: gratis\nAanmelden via: niet nodig\, maar begeleiding van een ouder/verzorger is verplicht. \nVergeet je ZomerPretPas niet!
URL:https://wijkmuseumsoesterkwartier.nl/evenement_sws/kinderworkshop-sleutelhanger-maken-4/
LOCATION:Wijkmuseum Soesterkwartier\, st. Bonifaciusstraat 61\, Amersfoort\, 3812 TD\, Nederland
CATEGORIES:Kinderactiviteit
ATTACH;FMTTYPE=image/jpeg:https://wijkmuseumsoesterkwartier.nl/wp-content/uploads/2025/07/ZPP_agenda_42.jpg
END:VEVENT
BEGIN:VEVENT
DTSTART;TZID=Europe/Amsterdam:20250830T130000
DTEND;TZID=Europe/Amsterdam:20250830T150000
DTSTAMP:20260425T180009
CREATED:20250719T080849Z
LAST-MODIFIED:20250719T080849Z
UID:8244-1756558800-1756566000@wijkmuseumsoesterkwartier.nl
SUMMARY:Kinderworkshop sleutelhanger maken
DESCRIPTION:Ontdek in het museum de tentoonstelling ‘Verenigd Soesterkwartier’. Na afloop kun je aan de knutseltafel jouw favoriete circusfiguur op een sleutelhanger van kurk tekenen en kleuren. Wordt het een sterke man\, clown of acrobaat. \nWanneer: 30 augustus\nTijd: 13.00-15.00 uur\nWaar: Wijkmuseum Soesterkwartier\nKosten: gratis\nAanmelden via: niet nodig\, maar begeleiding van een ouder/verzorger is verplicht. \nVergeet je ZomerPretPas niet!
URL:https://wijkmuseumsoesterkwartier.nl/evenement_sws/kinderworkshop-sleutelhanger-maken-9/
LOCATION:Wijkmuseum Soesterkwartier\, st. Bonifaciusstraat 61\, Amersfoort\, 3812 TD\, Nederland
CATEGORIES:Kinderactiviteit
ATTACH;FMTTYPE=image/jpeg:https://wijkmuseumsoesterkwartier.nl/wp-content/uploads/2025/07/ZPP_agenda_42.jpg
END:VEVENT
END:VCALENDAR