BEGIN:VCALENDAR
VERSION:2.0
PRODID:-//Wijkmuseum Soesterkwartier - ECPv6.15.16//NONSGML v1.0//EN
CALSCALE:GREGORIAN
METHOD:PUBLISH
X-WR-CALNAME:Wijkmuseum Soesterkwartier
X-ORIGINAL-URL:https://wijkmuseumsoesterkwartier.nl
X-WR-CALDESC:Evenementen voor Wijkmuseum Soesterkwartier
REFRESH-INTERVAL;VALUE=DURATION:PT1H
X-Robots-Tag:noindex
X-PUBLISHED-TTL:PT1H
BEGIN:VTIMEZONE
TZID:Europe/Amsterdam
BEGIN:DAYLIGHT
TZOFFSETFROM:+0100
TZOFFSETTO:+0200
TZNAME:CEST
DTSTART:20240331T010000
END:DAYLIGHT
BEGIN:STANDARD
TZOFFSETFROM:+0200
TZOFFSETTO:+0100
TZNAME:CET
DTSTART:20241027T010000
END:STANDARD
BEGIN:DAYLIGHT
TZOFFSETFROM:+0100
TZOFFSETTO:+0200
TZNAME:CEST
DTSTART:20250330T010000
END:DAYLIGHT
BEGIN:STANDARD
TZOFFSETFROM:+0200
TZOFFSETTO:+0100
TZNAME:CET
DTSTART:20251026T010000
END:STANDARD
BEGIN:DAYLIGHT
TZOFFSETFROM:+0100
TZOFFSETTO:+0200
TZNAME:CEST
DTSTART:20260329T010000
END:DAYLIGHT
BEGIN:STANDARD
TZOFFSETFROM:+0200
TZOFFSETTO:+0100
TZNAME:CET
DTSTART:20261025T010000
END:STANDARD
END:VTIMEZONE
BEGIN:VEVENT
DTSTART;TZID=Europe/Amsterdam:20250719T110000
DTEND;TZID=Europe/Amsterdam:20250719T123000
DTSTAMP:20260425T194054
CREATED:20250719T073820Z
LAST-MODIFIED:20250719T073820Z
UID:8215-1752922800-1752928200@wijkmuseumsoesterkwartier.nl
SUMMARY:Maak je eigen Vakantie Journal
DESCRIPTION:Zin om creatief aan de slag te gaan deze zomer? Doe mee met de workshop Vakantie Journal in het Wijkmuseum. Knip\, plak\, schrijf of teken jouw vakantieavonturen in je eigen Vakantie Journal. \nWanneer: 19 juli\nTijd: 11.00-12.30 uur\nWaar: Wijkmuseum Soesterkwartier\nKosten: gratis\nAanmelden via: schoolsportamersfoort.nl \nVergeet je ZomerPretPas niet! \n  \n 
URL:https://wijkmuseumsoesterkwartier.nl/evenement_sws/maak-je-eigen-vakantie-journal/
LOCATION:Wijkmuseum Soesterkwartier\, st. Bonifaciusstraat 61\, Amersfoort\, 3812 TD\, Nederland
CATEGORIES:Kinderactiviteit
ATTACH;FMTTYPE=image/jpeg:https://wijkmuseumsoesterkwartier.nl/wp-content/uploads/2025/07/ZPP_agenda_43.jpg
END:VEVENT
BEGIN:VEVENT
DTSTART;TZID=Europe/Amsterdam:20250719T130000
DTEND;TZID=Europe/Amsterdam:20250719T143000
DTSTAMP:20260425T194054
CREATED:20250719T074351Z
LAST-MODIFIED:20250719T091329Z
UID:8220-1752930000-1752935400@wijkmuseumsoesterkwartier.nl
SUMMARY:Kinderworkshop hooggeëerd publiek
DESCRIPTION:Maak in een lege kartonnen circustent je eigen circusvoorstelling. Alle circusartiesten staan al op je te wachten. \nWanneer: 19 juli\nTijd: 13.00-14.30 uur\nWaar: Wijkmuseum Soesterkwartier\nKosten: gratis\nAanmelden via: schoolsportamersfoort.nl \nVergeet je ZomerPretPas niet!
URL:https://wijkmuseumsoesterkwartier.nl/evenement_sws/hooggeeerd-publiek/
LOCATION:Wijkmuseum Soesterkwartier\, st. Bonifaciusstraat 61\, Amersfoort\, 3812 TD\, Nederland
CATEGORIES:Kinderactiviteit
ATTACH;FMTTYPE=image/jpeg:https://wijkmuseumsoesterkwartier.nl/wp-content/uploads/2025/07/ZPP_agenda_45.jpg
END:VEVENT
BEGIN:VEVENT
DTSTART;TZID=Europe/Amsterdam:20250723T133000
DTEND;TZID=Europe/Amsterdam:20250723T150000
DTSTAMP:20260425T194054
CREATED:20250719T075003Z
LAST-MODIFIED:20250719T091323Z
UID:8226-1753277400-1753282800@wijkmuseumsoesterkwartier.nl
SUMMARY:Kinderworkshop hooggeëerd publiek
DESCRIPTION:Maak in een lege kartonnen circustent je eigen circusvoorstelling. Alle circusartiesten staan al op je te wachten. \nWanneer: 23 juli\nTijd: 13.30-15.00 uur\nWaar: Wijkmuseum Soesterkwartier\nKosten: gratis\nAanmelden via: schoolsportamersfoort.nl \nVergeet je ZomerPretPas niet!
URL:https://wijkmuseumsoesterkwartier.nl/evenement_sws/kinderworkshop-hooggeeerd-publiek-2/
LOCATION:Wijkmuseum Soesterkwartier\, st. Bonifaciusstraat 61\, Amersfoort\, 3812 TD\, Nederland
CATEGORIES:Kinderactiviteit
ATTACH;FMTTYPE=image/jpeg:https://wijkmuseumsoesterkwartier.nl/wp-content/uploads/2025/07/ZPP_agenda_45.jpg
END:VEVENT
BEGIN:VEVENT
DTSTART;TZID=Europe/Amsterdam:20250726T110000
DTEND;TZID=Europe/Amsterdam:20250726T123000
DTSTAMP:20260425T194054
CREATED:20250719T073950Z
LAST-MODIFIED:20250719T073950Z
UID:8218-1753527600-1753533000@wijkmuseumsoesterkwartier.nl
SUMMARY:Maak je eigen Vakantie Journal
DESCRIPTION:Zin om creatief aan de slag te gaan deze zomer? Doe mee met de workshop Vakantie Journal in het Wijkmuseum. Knip\, plak\, schrijf of teken jouw vakantieavonturen in je eigen Vakantie Journal. \nWanneer: 26 juli\nTijd: 11.00-12.30 uur\nWaar: Wijkmuseum Soesterkwartier\nKosten: gratis\nAanmelden via: schoolsportamersfoort.nl \nVergeet je ZomerPretPas niet!
URL:https://wijkmuseumsoesterkwartier.nl/evenement_sws/maak-je-eigen-vakantie-journal-2/
LOCATION:Wijkmuseum Soesterkwartier\, st. Bonifaciusstraat 61\, Amersfoort\, 3812 TD\, Nederland
CATEGORIES:Kinderactiviteit
ATTACH;FMTTYPE=image/jpeg:https://wijkmuseumsoesterkwartier.nl/wp-content/uploads/2025/07/ZPP_agenda_43.jpg
END:VEVENT
BEGIN:VEVENT
DTSTART;TZID=Europe/Amsterdam:20250726T130000
DTEND;TZID=Europe/Amsterdam:20250726T143000
DTSTAMP:20260425T194054
CREATED:20250719T074735Z
LAST-MODIFIED:20250719T091400Z
UID:8224-1753534800-1753540200@wijkmuseumsoesterkwartier.nl
SUMMARY:Kinderworkshop hooggeëerd publiek
DESCRIPTION:Maak in een lege kartonnen circustent je eigen circusvoorstelling. Alle circusartiesten staan al op je te wachten. \nWanneer: 26 juli\nTijd: 13.00-14.30 uur\nWaar: Wijkmuseum Soesterkwartier\nKosten: gratis\nAanmelden via: schoolsportamersfoort.nl \nVergeet je ZomerPretPas niet!
URL:https://wijkmuseumsoesterkwartier.nl/evenement_sws/kinderworkshop-hooggeeerd-publiek/
LOCATION:Wijkmuseum Soesterkwartier\, st. Bonifaciusstraat 61\, Amersfoort\, 3812 TD\, Nederland
CATEGORIES:Kinderactiviteit
ATTACH;FMTTYPE=image/jpeg:https://wijkmuseumsoesterkwartier.nl/wp-content/uploads/2025/07/ZPP_agenda_45.jpg
END:VEVENT
BEGIN:VEVENT
DTSTART;TZID=Europe/Amsterdam:20250730T130000
DTEND;TZID=Europe/Amsterdam:20250730T143000
DTSTAMP:20260425T194054
CREATED:20250719T091054Z
LAST-MODIFIED:20250719T091054Z
UID:8267-1753880400-1753885800@wijkmuseumsoesterkwartier.nl
SUMMARY:Kom tuinieren
DESCRIPTION:Zaaien\, snoeien en een hekje maken. Kom lekker tuinieren in de museumtuin. Als je klaar bent maak je een leuke circussleutelhanger. \nWanneer: 30 juli\nTijd: 13.00-14.30 uur\nWaar: Wijkmuseum Soesterkwartier\nKosten: gratis\nAanmelden: via ABC Amersfoort \nVergeet je ZomerPretPas niet!
URL:https://wijkmuseumsoesterkwartier.nl/evenement_sws/kom-tuinieren/
LOCATION:Wijkmuseum Soesterkwartier\, st. Bonifaciusstraat 61\, Amersfoort\, 3812 TD\, Nederland
CATEGORIES:Kinderactiviteit
ATTACH;FMTTYPE=image/jpeg:https://wijkmuseumsoesterkwartier.nl/wp-content/uploads/2025/07/ZPP_agenda_46.jpg
END:VEVENT
BEGIN:VEVENT
DTSTART;TZID=Europe/Amsterdam:20250730T133000
DTEND;TZID=Europe/Amsterdam:20250730T150000
DTSTAMP:20260425T194054
CREATED:20250719T075233Z
LAST-MODIFIED:20250719T091352Z
UID:8227-1753882200-1753887600@wijkmuseumsoesterkwartier.nl
SUMMARY:Kinderworkshop hooggeëerd publiek
DESCRIPTION:Maak in een lege kartonnen circustent je eigen circusvoorstelling. Alle circusartiesten staan al op je te wachten. \nWanneer: 30 juli\nTijd: 13.30-15.00 uur\nWaar: Wijkmuseum Soesterkwartier\nKosten: gratis\nAanmelden via: schoolsportamersfoort.nl \nVergeet je ZomerPretPas niet!
URL:https://wijkmuseumsoesterkwartier.nl/evenement_sws/kinderworkshop-hooggeeerd-publiek-3/
LOCATION:Wijkmuseum Soesterkwartier\, st. Bonifaciusstraat 61\, Amersfoort\, 3812 TD\, Nederland
CATEGORIES:Kinderactiviteit
ATTACH;FMTTYPE=image/jpeg:https://wijkmuseumsoesterkwartier.nl/wp-content/uploads/2025/07/ZPP_agenda_45.jpg
END:VEVENT
END:VCALENDAR