BEGIN:VCALENDAR
VERSION:2.0
PRODID:-//Wijkmuseum Soesterkwartier - ECPv6.15.16//NONSGML v1.0//EN
CALSCALE:GREGORIAN
METHOD:PUBLISH
X-ORIGINAL-URL:https://wijkmuseumsoesterkwartier.nl
X-WR-CALDESC:Evenementen voor Wijkmuseum Soesterkwartier
REFRESH-INTERVAL;VALUE=DURATION:PT1H
X-Robots-Tag:noindex
X-PUBLISHED-TTL:PT1H
BEGIN:VTIMEZONE
TZID:Europe/Amsterdam
BEGIN:DAYLIGHT
TZOFFSETFROM:+0100
TZOFFSETTO:+0200
TZNAME:CEST
DTSTART:20240331T010000
END:DAYLIGHT
BEGIN:STANDARD
TZOFFSETFROM:+0200
TZOFFSETTO:+0100
TZNAME:CET
DTSTART:20241027T010000
END:STANDARD
BEGIN:DAYLIGHT
TZOFFSETFROM:+0100
TZOFFSETTO:+0200
TZNAME:CEST
DTSTART:20250330T010000
END:DAYLIGHT
BEGIN:STANDARD
TZOFFSETFROM:+0200
TZOFFSETTO:+0100
TZNAME:CET
DTSTART:20251026T010000
END:STANDARD
BEGIN:DAYLIGHT
TZOFFSETFROM:+0100
TZOFFSETTO:+0200
TZNAME:CEST
DTSTART:20260329T010000
END:DAYLIGHT
BEGIN:STANDARD
TZOFFSETFROM:+0200
TZOFFSETTO:+0100
TZNAME:CET
DTSTART:20261025T010000
END:STANDARD
END:VTIMEZONE
BEGIN:VEVENT
DTSTART;TZID=Europe/Amsterdam:20250503T000000
DTEND;TZID=Europe/Amsterdam:20250613T000000
DTSTAMP:20260425T213238
CREATED:20250425T110754Z
LAST-MODIFIED:20250503T073056Z
UID:8151-1746230400-1749772800@wijkmuseumsoesterkwartier.nl
SUMMARY:Kinderworkshop knutselen met houten figuurtjes
DESCRIPTION:Elke woensdag en elke zaterdag kun je in het Wijkmuseum een figuurtje van hout versieren. Bezoek daarna samen met je ouders of opa en oma de tentoonstelling Verenigd Soesterkwartier: een eeuw verenigingsleven in de volksbuurt of neem een kijkje in het knusse museumhuisje en ontdek hoe men vroeger leefde. \nWanneer: woensdag van 13.30 – 15.30 uur en zaterdag van 13.00 – 15.00 uur\nLeeftijd: vanaf 6 jaar\nKosten: gratis
URL:https://wijkmuseumsoesterkwartier.nl/evenement_sws/knutselen-met-houten-figuurtjes/
CATEGORIES:Kinderactiviteit
ATTACH;FMTTYPE=image/jpeg:https://wijkmuseumsoesterkwartier.nl/wp-content/uploads/2025/04/IMG_3666-rotated.jpg
END:VEVENT
BEGIN:VEVENT
DTSTART;TZID=Europe/Amsterdam:20250613T133000
DTEND;TZID=Europe/Amsterdam:20250613T153000
DTSTAMP:20260425T213238
CREATED:20250409T104903Z
LAST-MODIFIED:20250409T113502Z
UID:8144-1749821400-1749828600@wijkmuseumsoesterkwartier.nl
SUMMARY:Bezoek dahliatuin de Amerbloem en vlindertuin Papillon
DESCRIPTION:Heb jij al eens een bezoek gebracht de twee prachtige bloementuinen in onze wijk? Op 13 juni kun je dahliatuin de Amerbloem en vlindertuin Papillon bezoeken en meer te weten komen over deze bijzondere plekken in het Soesterkwartier. \nWe starten in het Wijkmuseum en lopen samen naar de tuinen. Tijdens je bezoek vertellen de vrijwilligers van de verenigingen van de tuinen meer over het ontstaan\, de geschiedenis en natuurlijk over de bloemen en planten in deze groene oases. \nWanneer: 13 juni\nTijd: 13.30 – 15.30 uur\nWaar: we starten bij het Wijkmuseum\, St. Bonifaciusstraat 61
URL:https://wijkmuseumsoesterkwartier.nl/evenement_sws/bezoek-dahliatuin-de-amerbloem-en-vlindertuin-papillon/
ATTACH;FMTTYPE=image/jpeg:https://wijkmuseumsoesterkwartier.nl/wp-content/uploads/2025/04/6051A2C2-1461-4358-91C4-50E9EC56494F.jpg
END:VEVENT
END:VCALENDAR