BEGIN:VCALENDAR
VERSION:2.0
PRODID:-//Wijkmuseum Soesterkwartier - ECPv6.15.16//NONSGML v1.0//EN
CALSCALE:GREGORIAN
METHOD:PUBLISH
X-ORIGINAL-URL:https://wijkmuseumsoesterkwartier.nl
X-WR-CALDESC:Evenementen voor Wijkmuseum Soesterkwartier
REFRESH-INTERVAL;VALUE=DURATION:PT1H
X-Robots-Tag:noindex
X-PUBLISHED-TTL:PT1H
BEGIN:VTIMEZONE
TZID:Europe/Amsterdam
BEGIN:DAYLIGHT
TZOFFSETFROM:+0100
TZOFFSETTO:+0200
TZNAME:CEST
DTSTART:20240331T010000
END:DAYLIGHT
BEGIN:STANDARD
TZOFFSETFROM:+0200
TZOFFSETTO:+0100
TZNAME:CET
DTSTART:20241027T010000
END:STANDARD
BEGIN:DAYLIGHT
TZOFFSETFROM:+0100
TZOFFSETTO:+0200
TZNAME:CEST
DTSTART:20250330T010000
END:DAYLIGHT
BEGIN:STANDARD
TZOFFSETFROM:+0200
TZOFFSETTO:+0100
TZNAME:CET
DTSTART:20251026T010000
END:STANDARD
BEGIN:DAYLIGHT
TZOFFSETFROM:+0100
TZOFFSETTO:+0200
TZNAME:CEST
DTSTART:20260329T010000
END:DAYLIGHT
BEGIN:STANDARD
TZOFFSETFROM:+0200
TZOFFSETTO:+0100
TZNAME:CET
DTSTART:20261025T010000
END:STANDARD
END:VTIMEZONE
BEGIN:VEVENT
DTSTART;VALUE=DATE:20250412
DTEND;VALUE=DATE:20250518
DTSTAMP:20260425T230519
CREATED:20250409T101032Z
LAST-MODIFIED:20250409T102006Z
UID:8129-1744416000-1747526399@wijkmuseumsoesterkwartier.nl
SUMMARY:Deel jouw verhaal over het Soesterkwartier
DESCRIPTION:Ben je net verhuisd naar het Soesterkwartier of woon je er al jaren? Wat jouw band met de wijk ook is\, Scholen in de Kunst is benieuwd naar jouw verhaal! Wij(k)verhalen is een bijzonder project waarin wijkbewoners samen hun verhalen delen en vastleggen. Onder begeleiding van Raymond Vis werk je aan een boek met foto’s en verhalen over het Soesterkwartier. Dat kan van alles zijn: een verhaal over je oude school\, een herinnering aan een bijzondere buur of een toekomstdroom voor jouw straat. Uiteindelijk worden alle verhalen gebundeld in een prachtig boek! \nRaymond Vis groeide op in het Soesterkwartier en schreef een boek over zijn jeugd. Hij is dus de ideale persoon om de deelnemers aan Wij(k)verhalen te begeleiden bij het schrijven. \n \nWat ga je doen?\nWij(k)verhalen is een community art-project: een project waarin kunst voor en door de wijk centraal staat. Je gaat dus samen met andere wijkbewoners aan de slag om de unieke verhalen van het Soesterkwartier een podium te geven\, in tekst of in beeld Je kunt kiezen wat het beste bij jou past: schrijven of fotografie. \nSchrijfworkshops\nIn vijf gratis workshops van 1\,5 uur ga je aan de slag met jouw verhaal over het Soesterkwartier. Samen met Dagmar Holtman en Raymond Vis duik je in het schrijfproces. Je krijgt tips over schrijven\, deelt je ervaringen en laat je inspireren door anderen. \nFotografieworkshops\nIn vijf gratis workshops van 1\,5 uur maak je jouw beelden van het Soesterkwartier. Onder leiding van Karin Riethoven\, bekend van haar fotoboek over de wijk\, krijg je tips en trucs van een ervaren fotograaf. Samen trek je de wijk in op zoek naar dat ene onvergetelijke plaatje. \nEen feestelijke afsluiting\nAlle verhalen en foto’s worden gebundeld in een heus boek en gepresenteerd tijdens de Zomerparade 2025! \nWanneer & Waar?\nDe workshops vinden plaats in het voorjaar van 2025. Lijkt het je leuk om mee te doen\, meld je dan aan met het aanmeldformulier. Deelname is gratis! \nScholen in de Kunst neemt na aanmelding contact met je op om de definitieve dagen af te spreken. De workshops worden in het Soesterkwartier gegeven\, dus altijd bij jou om de hoek!
URL:https://wijkmuseumsoesterkwartier.nl/evenement_sws/wijkverhalen-verhalen-uit-en-over-het-soesterkwartier/
LOCATION:Soesterkwartier
CATEGORIES:Workshop
ATTACH;FMTTYPE=image/jpeg:https://wijkmuseumsoesterkwartier.nl/wp-content/uploads/2021/11/p8711tz6.jpg
END:VEVENT
BEGIN:VEVENT
DTSTART;TZID=Europe/Amsterdam:20250430T130000
DTEND;TZID=Europe/Amsterdam:20250507T153000
DTSTAMP:20260425T230519
CREATED:20250425T111117Z
LAST-MODIFIED:20250425T111325Z
UID:8155-1746018000-1746631800@wijkmuseumsoesterkwartier.nl
SUMMARY:Kom knutselen in de meivakantie
DESCRIPTION:Kom in de meivakantie op woensdag 30 april en 7 mei langs bij het Wijkmuseum en maak samen met de knutselvereniging een vlinder\, spin of lieveheersbeestje. Bezoek daarna samen met je ouders of opa en oma de tentoonstelling Verenigd Soesterkwartier: een eeuw verenigingsleven in de volksbuurt of neem een kijkje in het knusse museumhuisje en ontdek hoe men vroeger leefde. \nWanneer: 30 april en 7 mei\nTijd: 13.00 – 15.30 uur\nKosten: gratis\nAanmelden: via abc-amersfoort.nl
URL:https://wijkmuseumsoesterkwartier.nl/evenement_sws/kom-knutselen-in-de-meivakantie/
CATEGORIES:Kinderactiviteit
ATTACH;FMTTYPE=image/jpeg:https://wijkmuseumsoesterkwartier.nl/wp-content/uploads/2025/04/IMG_9143-1-rotated.jpg
END:VEVENT
BEGIN:VEVENT
DTSTART;TZID=Europe/Amsterdam:20250503T000000
DTEND;TZID=Europe/Amsterdam:20250613T000000
DTSTAMP:20260425T230519
CREATED:20250425T110754Z
LAST-MODIFIED:20250503T073056Z
UID:8151-1746230400-1749772800@wijkmuseumsoesterkwartier.nl
SUMMARY:Kinderworkshop knutselen met houten figuurtjes
DESCRIPTION:Elke woensdag en elke zaterdag kun je in het Wijkmuseum een figuurtje van hout versieren. Bezoek daarna samen met je ouders of opa en oma de tentoonstelling Verenigd Soesterkwartier: een eeuw verenigingsleven in de volksbuurt of neem een kijkje in het knusse museumhuisje en ontdek hoe men vroeger leefde. \nWanneer: woensdag van 13.30 – 15.30 uur en zaterdag van 13.00 – 15.00 uur\nLeeftijd: vanaf 6 jaar\nKosten: gratis
URL:https://wijkmuseumsoesterkwartier.nl/evenement_sws/knutselen-met-houten-figuurtjes/
CATEGORIES:Kinderactiviteit
ATTACH;FMTTYPE=image/jpeg:https://wijkmuseumsoesterkwartier.nl/wp-content/uploads/2025/04/IMG_3666-rotated.jpg
END:VEVENT
BEGIN:VEVENT
DTSTART;TZID=Europe/Amsterdam:20250505T120000
DTEND;TZID=Europe/Amsterdam:20250505T140000
DTSTAMP:20260425T230519
CREATED:20250409T102706Z
LAST-MODIFIED:20250424T143933Z
UID:8137-1746446400-1746453600@wijkmuseumsoesterkwartier.nl
SUMMARY:Vier samen vrijheid tijdens een vrijheidslunch
DESCRIPTION:Op verschillende plekken in Nederland kun je op 5 mei aanstaande genieten van een vrijheidsmaaltijd. Ook in het Soesterkwartier vieren we de vrijheid met elkaar. Op 5 mei aanstaande van 12.00 – 14.00 uur organiseren Wijkmuseum Amersfoort en Speeltuin Rivierenwijk namelijk een feestelijke vrijheidslunch. Je bent van harte welkom! \nIn de prachtige groene Speeltuin Rivierenwijk aan de Dollardstraat gaan we met elkaar aan tafel om verhalen te delen en de vrijheid te vieren. Deze plek is ontstaan 80 jaar geleden. Hét moment dat Nederland weer in vrijheid het leven kon opbouwen. Iedereen is welkom om samen te eten\, te praten en stil te staan bij wat vrijheid betekent – in Nederland én daarbuiten. Want hoewel we in Nederland kunnen vieren dat we in vrijheid leven is dat niet overal vanzelfsprekend. \nTijdens de vrijheidslunch kun je genieten van een lekkere lunch en een gezellig samenzijn. Het is leuk als ook een klein gerechtje meeneemt om met elkaar te delen. \nToegang is gratis. Neem je buurvrouw\, neefje of opa mee en schuif aan!\nAanmelden kan via: info@wijkmuseumsoesterkwartier.nl \nWaar: Speeltuinvereniging Rivierenwijk\, Dollardstraat 119\nTijd: 12.00-14.00 uur\nAanmelden: info@wijkmuseumsoesterkwartier.nl \n 
URL:https://wijkmuseumsoesterkwartier.nl/evenement_sws/vrijheidsmaaltijd/
LOCATION:Speeltuinvereniging Rivierenwijk\, Dollardstraat 119\, Amersfoort
ATTACH;FMTTYPE=image/jpeg:https://wijkmuseumsoesterkwartier.nl/wp-content/uploads/2025/04/Vrijheidslunch.jpg
END:VEVENT
BEGIN:VEVENT
DTSTART;TZID=Europe/Amsterdam:20250510T130000
DTEND;TZID=Europe/Amsterdam:20250510T134500
DTSTAMP:20260425T230520
CREATED:20250409T104104Z
LAST-MODIFIED:20250409T111550Z
UID:8141-1746882000-1746884700@wijkmuseumsoesterkwartier.nl
SUMMARY:Optreden straatorkest muziekgezelschap Coda
DESCRIPTION:Op 10 mei geeft straatorkest muziekgezelschap Coda een optreden in de Sint Bonifaciusstraat voor het Wijkmuseum. Met een speciale uitvoering van de Fanfare opening van het Wijkmuseum Soesterkwartier uit 2014. \nJe bent van harte welkom om te genieten van de muziek. Bezoek ook de nieuwe tentoonstelling Verenigd Soesterkwartier waar je meer te weten komt over Coda en andere verenigingen in het Soesterkwartier. De tentoonstelling is een feest van herkenning en een eerbetoon aan honderd jaar Verenigingsleven in de Volksbuurt. \nWanneer: 10 mei\nTijd: 13.00 – 13.45 uur\nWaar: St. Bonifaciusstraat 61
URL:https://wijkmuseumsoesterkwartier.nl/evenement_sws/optreden-straatorkest-muziekgezelschap-coda/
ATTACH;FMTTYPE=image/jpeg:https://wijkmuseumsoesterkwartier.nl/wp-content/uploads/2025/04/IMG_9538.jpg
END:VEVENT
END:VCALENDAR