BEGIN:VCALENDAR
VERSION:2.0
PRODID:-//Wijkmuseum Soesterkwartier - ECPv6.15.16//NONSGML v1.0//EN
CALSCALE:GREGORIAN
METHOD:PUBLISH
X-WR-CALNAME:Wijkmuseum Soesterkwartier
X-ORIGINAL-URL:https://wijkmuseumsoesterkwartier.nl
X-WR-CALDESC:Evenementen voor Wijkmuseum Soesterkwartier
REFRESH-INTERVAL;VALUE=DURATION:PT1H
X-Robots-Tag:noindex
X-PUBLISHED-TTL:PT1H
BEGIN:VTIMEZONE
TZID:Europe/Amsterdam
BEGIN:DAYLIGHT
TZOFFSETFROM:+0100
TZOFFSETTO:+0200
TZNAME:CEST
DTSTART:20170326T010000
END:DAYLIGHT
BEGIN:STANDARD
TZOFFSETFROM:+0200
TZOFFSETTO:+0100
TZNAME:CET
DTSTART:20171029T010000
END:STANDARD
BEGIN:DAYLIGHT
TZOFFSETFROM:+0100
TZOFFSETTO:+0200
TZNAME:CEST
DTSTART:20180325T010000
END:DAYLIGHT
BEGIN:STANDARD
TZOFFSETFROM:+0200
TZOFFSETTO:+0100
TZNAME:CET
DTSTART:20181028T010000
END:STANDARD
BEGIN:DAYLIGHT
TZOFFSETFROM:+0100
TZOFFSETTO:+0200
TZNAME:CEST
DTSTART:20190331T010000
END:DAYLIGHT
BEGIN:STANDARD
TZOFFSETFROM:+0200
TZOFFSETTO:+0100
TZNAME:CET
DTSTART:20191027T010000
END:STANDARD
BEGIN:DAYLIGHT
TZOFFSETFROM:+0100
TZOFFSETTO:+0200
TZNAME:CEST
DTSTART:20200329T010000
END:DAYLIGHT
BEGIN:STANDARD
TZOFFSETFROM:+0200
TZOFFSETTO:+0100
TZNAME:CET
DTSTART:20201025T010000
END:STANDARD
BEGIN:DAYLIGHT
TZOFFSETFROM:+0100
TZOFFSETTO:+0200
TZNAME:CEST
DTSTART:20210328T010000
END:DAYLIGHT
BEGIN:STANDARD
TZOFFSETFROM:+0200
TZOFFSETTO:+0100
TZNAME:CET
DTSTART:20211031T010000
END:STANDARD
END:VTIMEZONE
BEGIN:VEVENT
DTSTART;TZID=Europe/Amsterdam:20200508T160000
DTEND;TZID=Europe/Amsterdam:20200508T170000
DTSTAMP:20260426T021350
CREATED:20191024T162325Z
LAST-MODIFIED:20230316T082244Z
UID:5388-1588953600-1588957200@wijkmuseumsoesterkwartier.nl
SUMMARY:LOUK DE LIEVER VERTELT
DESCRIPTION:Louk de Liever vertelt over ’75 jaar bevrijding’ in Wijkmuseum Soesterkwartier \n  \nAMERSFOORT – De in Nijkerk woonachtige Louk de Liever (79) is het enige nog in leven zijnde lid van de familie De Liever dat de holocaust tijdens de Tweede Wereldoorlog heeft doorstaan. Hoewel het merendeel van zijn (Joodse) familie hierbij omkwam\, hebben zijn grootouders en ouders deze periode wonderwel overleefd. Hijzelf werd na verraad in september \n1944 via Kamp Westerbork\, naar het Duitse concentratiekamp Bergen-Belsen afgevoerd. Van november 1944 tot het einde van de oorlog verbleef hij in het Kamp Theresiënstadt in het huidige Tsjechië. Het geslacht De Liever heeft een eeuwenoude geschiedenis in Nijkerk. Ter herinnering daaraan is deze familie vorig jaar met de straatnaam De Lieverhof (tussen Vetkamp en Vrijheidslaan) geëerd. Onder het motto ’75 jaar Bevrijding’ vertelt De Liever op vrijdag 8 mei om 16.00 uur over zijn oorlogservaringen in de Thema-kamer van het Wijkmuseum Soesterkwartier\, Sint Bonifaciusstraat \n61 in Amersfoort. De bijeenkomst is gratis toegankelijk\, maar vrijwillige bijdragen zijn welkom.
URL:https://wijkmuseumsoesterkwartier.nl/evenement_sws/louk-de-liever-verteld/
CATEGORIES:Lezing
ATTACH;FMTTYPE=image/jpeg:https://wijkmuseumsoesterkwartier.nl/wp-content/uploads/2019/10/Louk-de-Liever-web.jpg
ORGANIZER;CN="Wijkmuseum":MAILTO:info@wijkmuseumsoesterkwartier.nl
END:VEVENT
BEGIN:VEVENT
DTSTART;TZID=Europe/Amsterdam:20200417T160000
DTEND;TZID=Europe/Amsterdam:20200417T170000
DTSTAMP:20260426T021350
CREATED:20191023T065701Z
LAST-MODIFIED:20230316T082256Z
UID:5385-1587139200-1587142800@wijkmuseumsoesterkwartier.nl
SUMMARY:LEZING MET RONALD POLAK
DESCRIPTION:Ronald Polak vertelt over afmars Duitse soldaten \nAMERSFOORT – Van de 120.000 Duitse soldaten die na de bevrijding van West-Nederland in 1945 werden ontwapend\, waren er 13.000 nabij Leusden gelegerd. Vanuit een aantal  locaties\, waaronder de Leusderheide\, moesten ze vooral via de Afsluitdijk naar hun thuisland terugkeren. Voor sommigen betekende dat een voettocht van ongeveer 400 kilometer. Ronald Polak\, voorzitter van de Historische Kring Leusden en voormalig geschiedenisleraar dook in de archieven\, luisterde naar ooggetuigen en schreef het boek ‘Afgemarcheerd ! Ontwapening op de Leusderheide’ over deze vergeten episode na afloop van de Tweede Wereldoorlog. Hij heeft veel foto’s uit die tijd verzameld en ze een plaats in het boek gegeven. Aan de hand hiervan vertelt Polak op vrijdag 17 April om 16.00 uur in de Thema-kamer van het Wijkmuseum Soesterkwartier\, Sint Bonifaciusstraat 61 in Amersfoort meer over deze geschiedenis die dit jaar precies 75 jaar geleden plaats vond. Deze lezing is zoals gebruikelijk gratis toegankelijk\, maar vrijwillige bijdragen blijven welkom.
URL:https://wijkmuseumsoesterkwartier.nl/evenement_sws/lezing-met-ronald-polak/
LOCATION:Wijkmuseum Soesterkwartier\, st. Bonifaciusstraat 61\, Amersfoort\, 3812 TD\, Nederland
CATEGORIES:Lezing
ATTACH;FMTTYPE=image/jpeg:https://wijkmuseumsoesterkwartier.nl/wp-content/uploads/2019/10/ronald-polak.jpg
ORGANIZER;CN="Wijkmuseum":MAILTO:info@wijkmuseumsoesterkwartier.nl
END:VEVENT
BEGIN:VEVENT
DTSTART;TZID=Europe/Amsterdam:20200401T080000
DTEND;TZID=Europe/Amsterdam:20200531T170000
DTSTAMP:20260426T021350
CREATED:20190911T074515Z
LAST-MODIFIED:20191129T101105Z
UID:5300-1585728000-1590944400@wijkmuseumsoesterkwartier.nl
SUMMARY:75 jaar bevrijding in het Soesterkwartier
DESCRIPTION:75 jaar bevrijding in het Soesterkwartier  met onder andere een lezing begin mei . \n      \n  \nTijdens deze jaar tentoonstelling zijn we van plan bijeenkomsten te houden met wijkbewoners . \nDe verschillende buurtjes \, zoals bomenbuurt \, bloemen buurt \, Vreeland \, enz krijgen om de beurt een uitnodiging . \nDe bedoeling is om oude verhalen en belevenissen met elkaar te delen en voor het nageslacht te bewaren ( In boekvorm )
URL:https://wijkmuseumsoesterkwartier.nl/evenement_sws/75-jaar-bevrijding-in-het-soesterkwartier/
LOCATION:Wijkmuseum Soesterkwartier\, st. Bonifaciusstraat 61\, Amersfoort\, 3812 TD\, Nederland
ATTACH;FMTTYPE=image/jpeg:https://wijkmuseumsoesterkwartier.nl/wp-content/uploads/2019/09/18301381_1875794469326110_6050433550580158046_n.jpg
ORGANIZER;CN="Wijkmuseum":MAILTO:info@wijkmuseumsoesterkwartier.nl
END:VEVENT
BEGIN:VEVENT
DTSTART;TZID=Europe/Amsterdam:20200131T160000
DTEND;TZID=Europe/Amsterdam:20200131T170000
DTSTAMP:20260426T021350
CREATED:20200109T080357Z
LAST-MODIFIED:20200124T092436Z
UID:5529-1580486400-1580490000@wijkmuseumsoesterkwartier.nl
SUMMARY:GEBROEDERS SCHRIJVER VERTELLEN OVER SCHOENEN
DESCRIPTION:Meester-schoenmakers Floris en Hennie Schrijver vertellen op vrijdag 31 januari om 16.00 uur bijzonderheden over hun vak in de Thema-kamer van het Wijkmuseum Soesterkwartier\, Sint Bonifaciusstraat 61 in Amersfoort. Deze tweelingbroers exploiteerden jarenlang een ambachtelijke schoenmakerij aan de Langestraat in de Amersfoortse binnenstad\, die bijna 70 jaar geleden door hun grootvader werd gesticht. De naam Schrijver leeft nu nog voort als ‘Schoenmakerij Schrijver’ aan de Emiclaerhof in Amersfoort-Noord. Floris en Hennie Schrijver zijn verder bekend als kunstschilders van (vooral) lokale onderwerpen. Hennie maakt tevens beeldhouwwerken. Hun inleiding over het schoenenvak vindt plaats ter gelegenheid van de expositie ‘Oude Accessoires’ die tot september in de Thema-kamer (achter de museumwoning) te zien is. In deze ontmoetingsruimte  worden behalve (antieke) schoenen ook hoeden\, tassen\, dassen\, handschoenen en bijbehorende schilderijen van Ria Kitselaar getoond. \n \nHet wijkmuseum is iedere zaterdag van 11.00 tot 16.00 uur geopend. De toegang is gratis\, maar vrijwillige bijdragen worden (erg) op prijs gesteld. \n 
URL:https://wijkmuseumsoesterkwartier.nl/evenement_sws/floris-en-hennie-schrijver-vertellen-over-schoenen-en-schilderenn/
LOCATION:Wijkmuseum Soesterkwartier\, st. Bonifaciusstraat 61\, Amersfoort\, 3812 TD\, Nederland
ATTACH;FMTTYPE=image/jpeg:https://wijkmuseumsoesterkwartier.nl/wp-content/uploads/2020/01/Gebr-Schrijver.jpg
ORGANIZER;CN="Wijkmuseum":MAILTO:info@wijkmuseumsoesterkwartier.nl
END:VEVENT
BEGIN:VEVENT
DTSTART;TZID=Europe/Amsterdam:20200104T150000
DTEND;TZID=Europe/Amsterdam:20200104T170000
DTSTAMP:20260426T021350
CREATED:20191231T145100Z
LAST-MODIFIED:20191231T145822Z
UID:5472-1578150000-1578157200@wijkmuseumsoesterkwartier.nl
SUMMARY:Nieuwjaarsreceptie  met 'Oude Accessoires'
DESCRIPTION:In de Thema-kamer van het Wijkmuseum Soesterkwartier\, Sint Bonifaciusstraat 61 in Amersfoort wordt op zaterdag 4 januari om 15.00 uur de expositie “Oude accessoires”  geopend. Dat gebeurt door Hans Rotteveel\, die tot medio 2015 een winkel met exclusieve Italiaanse schoenen in de Amersfoortse binnenstad (Langestraat) exploiteerde. Naast schoenen omvat deze expositie ook hoeden\, tassen en andere kledingaccessoires\, zoals die sinds het begin van de vorige eeuw (door mannen\, vrouwen en kinderen) werden gedragen. Met deze bijeenkomst zal tevens (met hapjes en drankjes) het nieuwe jaar worden ingeluid. Museumwoning en Thema-kamer zijn iedere zaterdag van 11.00 tot 16.00 uur geopend. De toegang is gratis\, maar vrijwillige bijdragen blijven altijd welkom.
URL:https://wijkmuseumsoesterkwartier.nl/evenement_sws/nieuwjaarsreceptie-met-oude-accessoires/
LOCATION:Wijkmuseum Soesterkwartier\, st. Bonifaciusstraat 61\, Amersfoort\, 3812 TD\, Nederland
ATTACH;FMTTYPE=image/jpeg:https://wijkmuseumsoesterkwartier.nl/wp-content/uploads/2019/12/20191231_155701.jpg
ORGANIZER;CN="Wijkmuseum":MAILTO:info@wijkmuseumsoesterkwartier.nl
END:VEVENT
BEGIN:VEVENT
DTSTART;TZID=Europe/Amsterdam:20191213T160000
DTEND;TZID=Europe/Amsterdam:20191213T170000
DTSTAMP:20260426T021350
CREATED:20191112T071533Z
LAST-MODIFIED:20191129T093126Z
UID:5421-1576252800-1576256400@wijkmuseumsoesterkwartier.nl
SUMMARY:GERRIE HUIZENGA\, PASTOR VAN DE KEISTADKERK SPREEKT
DESCRIPTION:Vrijdag 13 december\, 16.00 uur\, spreekt Gerrie Huizenga\, pastor van de Keistadkerk .      \nZij zal niet spreken over ‘ZIJ /HIJ’\, maar over ‘WIJ’. \nGerrie Huizenga verzorgt op vrijdag 13 december een inleiding over het thema ‘Vrouw in de kerk’. \nBelangstellenden kunnen hiervoor om 16.00 uur in de Thema-kamer\, achter de museumwoning terecht. Deze toelichting staat in het teken van de expositie ‘Zij/Hij’ die hier tot eind december te zien is. Huizenga is pastor van de Keistadkerk van de PKN (Protestantse Kerk Nederland) en is predikant in de Emmaüskerk aan de Noordewierweg. Ze zegt te dromen van ‘een wereld waarin mannen en vrouwen naar elkaar luisteren en samenwerken\, elkaars kracht kennen\, elkaars zwakten aanvullen en waar macht en ongelijkheid niet bestaat’. Huizenga beschouwt de expositie ‘Zij/Hij’ als opstapje naar ‘Wij’. De bijeenkomst is gratis toegankelijk\, maar vrijwillige bijdragen voor het wijkmuseum zijn welkom.
URL:https://wijkmuseumsoesterkwartier.nl/evenement_sws/gerrie-huizenga-pastor-van-de-keistadkerk-spreekt/
LOCATION:Wijkmuseum Soesterkwartier\, st. Bonifaciusstraat 61\, Amersfoort\, 3812 TD\, Nederland
ATTACH;FMTTYPE=image/jpeg:https://wijkmuseumsoesterkwartier.nl/wp-content/uploads/2019/11/download.jpg
ORGANIZER;CN="Wijkmuseum":MAILTO:info@wijkmuseumsoesterkwartier.nl
END:VEVENT
BEGIN:VEVENT
DTSTART;TZID=Europe/Amsterdam:20191122T160000
DTEND;TZID=Europe/Amsterdam:20191122T170000
DTSTAMP:20260426T021350
CREATED:20191104T091724Z
LAST-MODIFIED:20191116T131149Z
UID:5413-1574438400-1574442000@wijkmuseumsoesterkwartier.nl
SUMMARY:LEZING VAN ADA VAN DER HEIDE -TAA
DESCRIPTION:Ada van der Heide over Tesselschade Arbeid Adelt in Wijkmuseum \nAMERSFOORT – Ada van der Heide uit Baarn is op vrijdag 22 november om 16.00 uur te gast in het Wijkmuseum Soesterkwartioer\, Sint Bonifaciusstraat 61 in Amersfoort. In de Thema-kamer achter de museumwoning vertelt zij dan bijzonderheden over de Algemene Nederlandse Vrouwenvereniging Tesselschade-Arbeid Adelt (TAA). Deze inleiding vindt plaats ter gelegenheid van de expositie ‘Zij/Hij’ die hier tot eind december te zien is. TAA biedt kansen aan vrouwen die onvoldoende geld hebben om een opleiding of een studie te betalen en te volgen om daardoor economisch zelfstandig te worden. Als eerste Nederlandse vrouwenvereniging werd TAA in 1871 door Louise Wijnaendts en Betsy Perk (‘Strijdsters voor vrouwenrechten’) opgericht. Om geld voor haar activiteiten in te zamelen houdt de afdeling Het Gooi van TAA ieder najaar verkopingen waarop geschenken voor Sint Nicolaas en Kerstmis worden verkocht. Dit jaar is deze markt op  zaterdag 23 november van 11.00 tot 16.00 uur in kasteel Groeneveld\, Groeneveld 2 in Baarn. De bijeenkomst in het wijkmuseum is gratis toegankelijk\, maar vrijwillige bijdragen zijn welkom
URL:https://wijkmuseumsoesterkwartier.nl/evenement_sws/lezing-van-ada-van-der-heide-taa/
LOCATION:Wijkmuseum Soesterkwartier\, st. Bonifaciusstraat 61\, Amersfoort\, 3812 TD\, Nederland
ATTACH;FMTTYPE=image/png:https://wijkmuseumsoesterkwartier.nl/wp-content/uploads/2019/11/logo.png
END:VEVENT
BEGIN:VEVENT
DTSTART;TZID=Europe/Amsterdam:20191025T160000
DTEND;TZID=Europe/Amsterdam:20191025T170000
DTSTAMP:20260426T021350
CREATED:20190911T073419Z
LAST-MODIFIED:20190911T074706Z
UID:5297-1572019200-1572022800@wijkmuseumsoesterkwartier.nl
SUMMARY:LEZING JOS KALDENBACH
DESCRIPTION:vrijdag  25 Oktober 2019 om 16 .00 uur met Jos Kaldenbach van de NGV over de genealogie en de vrouw . \n \nde lezing is gratis toegankelijk maar een vrijwilligenbijdrage is zeer welkom.
URL:https://wijkmuseumsoesterkwartier.nl/evenement_sws/lezing-jos-kaldenbach/
LOCATION:Wijkmuseum Soesterkwartier\, st. Bonifaciusstraat 61\, Amersfoort\, 3812 TD\, Nederland
ATTACH;FMTTYPE=image/jpeg:https://wijkmuseumsoesterkwartier.nl/wp-content/uploads/2019/09/jos-kalbenbach.jpg
ORGANIZER;CN="Wijkmuseum":MAILTO:info@wijkmuseumsoesterkwartier.nl
END:VEVENT
BEGIN:VEVENT
DTSTART;TZID=Europe/Amsterdam:20191011T160000
DTEND;TZID=Europe/Amsterdam:20191011T170000
DTSTAMP:20260426T021350
CREATED:20190911T072939Z
LAST-MODIFIED:20190911T072939Z
UID:5294-1570809600-1570813200@wijkmuseumsoesterkwartier.nl
SUMMARY:rector Stephan Bakker
DESCRIPTION:vrijdag 11 oktober om 16 .00 uur  \npraat Stephan Bakker over de vrouw in de kerk. \n \nDe lezing is gratis toegankelijk maar een vrijwilligen bijdrage is altijd zeer welkom.
URL:https://wijkmuseumsoesterkwartier.nl/evenement_sws/rector-stephan-bakker/
LOCATION:Wijkmuseum Soesterkwartier\, st. Bonifaciusstraat 61\, Amersfoort\, 3812 TD\, Nederland
ATTACH;FMTTYPE=image/jpeg:https://wijkmuseumsoesterkwartier.nl/wp-content/uploads/2019/09/rector-stephan-bakker.jpg
ORGANIZER;CN="Wijkmuseum":MAILTO:info@wijkmuseumsoesterkwartier.nl
END:VEVENT
BEGIN:VEVENT
DTSTART;TZID=Europe/Amsterdam:20190928T110000
DTEND;TZID=Europe/Amsterdam:20190928T170000
DTSTAMP:20260426T021350
CREATED:20190911T071340Z
LAST-MODIFIED:20190911T075441Z
UID:5289-1569668400-1569690000@wijkmuseumsoesterkwartier.nl
SUMMARY:MAAND VAN DE GESCHIEDENIS
DESCRIPTION:Zaterdag 28 september  2019 \nOpenen we de Maand van de Geschiedenis met als thema ZIJ/HIJ om 12.00 uur  \nWe behandelen dan de emancipatie van de vrouw met als boegbeeld Aletta Jacobs . \nMet een link naar de werkende vrouwen van begin vorige eeuw in het Soesterkwartier . \nHierbij plannen we ook 2 lezingen .  \nDe eerste op vrijdag 11 oktober om 16 .00 uur met Stephan Bakker over de vrouw in de kerk. \nDe tweede op Vrijdag 25 Oktober om 16 .00 uur met Jos Kalbenbach van de NGV over de  \ngenealogie en de vrouw .
URL:https://wijkmuseumsoesterkwartier.nl/evenement_sws/maand-van-de-geschiedenis/
LOCATION:Wijkmuseum Soesterkwartier\, st. Bonifaciusstraat 61\, Amersfoort\, 3812 TD\, Nederland
ATTACH;FMTTYPE=image/jpeg:https://wijkmuseumsoesterkwartier.nl/wp-content/uploads/2019/09/Desktop4-915x518.jpg
ORGANIZER;CN="Wijkmuseum":MAILTO:info@wijkmuseumsoesterkwartier.nl
END:VEVENT
BEGIN:VEVENT
DTSTART;TZID=Europe/Amsterdam:20190906T160000
DTEND;TZID=Europe/Amsterdam:20190906T170000
DTSTAMP:20260426T021350
CREATED:20190827T185524Z
LAST-MODIFIED:20230321T200120Z
UID:6998-1567785600-1567789200@wijkmuseumsoesterkwartier.nl
SUMMARY:Lezing Simone Kennedy over kinderpardon asielzoekers
DESCRIPTION:Mevrouw Simone Kennedy – Doornbos vertelt op vrijdag 6 september vanaf 16 .00 uur in het Wijkmuseum Soesterkwartier St Bonifaciusstraat 61 in Amersfoort over haar ervaringen rond het onderwerp : “Asielzoekers en het kinderpardon “. Deze bijeenkomst vindt plaats ter gelegenheid van de expositie die in de themakamer achter de museumwoning wordt gehouden . Daar zijn tot eind september door asielzoekers van het AZC Amersfoort vervaardigde kunstwerken te zien . \nDe in Kampen geboren Doornbos studeerde biologie aan de universiteit van Amsterdam en verbleef van 1994 tot 2003 in de Verenigde Staten  en is getrouwd met James Kennedy met wie ze drie kinderen heeft . Ze zit sinds april 2006 namens de Christen Unie in de Amersfoortse gemeente raad \, waar ze in 2011 Menno Tiggelaar als fractievoorzitter opvolgde . \nDe bijeenkomst is gratis toegankelijk \,maar vrijwillige bijdragen zijn welkom .
URL:https://wijkmuseumsoesterkwartier.nl/evenement_sws/lezing-simone-kennedy-over-kinderpardon-asielzoekers/
LOCATION:Wijkmuseum Soesterkwartier\, st. Bonifaciusstraat 61\, Amersfoort\, 3812 TD\, Nederland
CATEGORIES:Lezing
ATTACH;FMTTYPE=image/jpeg:https://wijkmuseumsoesterkwartier.nl/wp-content/uploads/2019/08/simone-kennedy.jpg
END:VEVENT
BEGIN:VEVENT
DTSTART;TZID=Europe/Amsterdam:20190621T160000
DTEND;TZID=Europe/Amsterdam:20190621T180000
DTSTAMP:20260426T021350
CREATED:20190613T115345Z
LAST-MODIFIED:20190613T115345Z
UID:4821-1561132800-1561140000@wijkmuseumsoesterkwartier.nl
SUMMARY:Rector Stephan Bakker spreekt…
DESCRIPTION:Rector Stephan Bakker\, stichter en pastoor van de Orthodoxe Parochie Amersfoort\, komt op vrijdag 21 juni vanaf 16.00 uur in de Thema-kamer bijzonderheden over diens geloofsgemeenschap vertellen.\nHierbij komen onder meer de geschiedenis van de Russisch-orthodoxe kerk in het algemeen en in die Nederland in het bijzonder.\nDe Amersfoortse parochie is sinds 2014 in (een gedeelte van) de voormalige Sint Henricuskerk aan de naburige Matthias Withoosstraat gevestigd.\nHet kerkgebouw is gewijd aan de heilige Cornelius de Honderdman\, een Romeins militair die aan het begin van onze jaartelling leefde.\nHij wordt beschouwd als één van de eerste niet-joden die christen werd.\nAansluitend aan de lezing volgt een rondleiding in het kerkgebouw waar onder meer de voor deze geloofsgemeenschap kenmerkende iconostase (achterwand met heiligenportretten) te zien is.\nDe bijeenkomst in het wijkmuseum is gratis toegankelijk. Vrijwillige bijdragen blijven welkom.
URL:https://wijkmuseumsoesterkwartier.nl/evenement_sws/rector-stephan-bakker-spreekt/
LOCATION:Wijkmuseum Soesterkwartier\, st. Bonifaciusstraat 61\, Amersfoort\, 3812 TD\, Nederland
ATTACH;FMTTYPE=image/jpeg:https://wijkmuseumsoesterkwartier.nl/wp-content/uploads/2019/06/stephan-bakker.jpg
ORGANIZER;CN="Wijkmuseum":MAILTO:info@wijkmuseumsoesterkwartier.nl
END:VEVENT
BEGIN:VEVENT
DTSTART;TZID=Europe/Amsterdam:20190621T160000
DTEND;TZID=Europe/Amsterdam:20190621T170000
DTSTAMP:20260426T021350
CREATED:20190612T231912Z
LAST-MODIFIED:20190612T231912Z
UID:4768-1561132800-1561136400@wijkmuseumsoesterkwartier.nl
SUMMARY:lezing Orthodoxe Parochie met Stephan Bakker
DESCRIPTION:
URL:https://wijkmuseumsoesterkwartier.nl/evenement_sws/lezing-orthodoxe-parochie-met-stephan-bakker/
LOCATION:Wijkmuseum Soesterkwartier\, st. Bonifaciusstraat 61\, Amersfoort\, 3812 TD\, Nederland
ATTACH;FMTTYPE=image/jpeg:https://wijkmuseumsoesterkwartier.nl/wp-content/uploads/2018/06/Gerard-Mosterd.jpg
END:VEVENT
BEGIN:VEVENT
DTSTART;TZID=Europe/Amsterdam:20190615T110000
DTEND;TZID=Europe/Amsterdam:20190921T160000
DTSTAMP:20260426T021350
CREATED:20190612T231131Z
LAST-MODIFIED:20190626T080924Z
UID:4762-1560596400-1569081600@wijkmuseumsoesterkwartier.nl
SUMMARY:Creativiteit van  bewoners AZC  in Wijkmuseum
DESCRIPTION:
URL:https://wijkmuseumsoesterkwartier.nl/evenement_sws/creativiteit-van-bewoners-azc-in-wijkmuseum/
LOCATION:Wijkmuseum Soesterkwartier\, st. Bonifaciusstraat 61\, Amersfoort\, 3812 TD\, Nederland
ATTACH;FMTTYPE=image/jpeg:https://wijkmuseumsoesterkwartier.nl/wp-content/uploads/2019/06/AZC1.jpg
ORGANIZER;CN="Wijkmuseum":MAILTO:info@wijkmuseumsoesterkwartier.nl
END:VEVENT
BEGIN:VEVENT
DTSTART;TZID=Europe/Amsterdam:20181026T160000
DTEND;TZID=Europe/Amsterdam:20181026T170000
DTSTAMP:20260426T021350
CREATED:20181018T191658Z
LAST-MODIFIED:20230321T202018Z
UID:7004-1540569600-1540573200@wijkmuseumsoesterkwartier.nl
SUMMARY:Jos Pothof vertelt bij herdenkingsstenen
DESCRIPTION:In het kader van de nationale ‘Maand van de Geschiedenis’ en het ‘Jaar van het Verzet’ worden binnenkort in het Soesterkwartier ‘herdenkingsstenen’ met de namen van tijdens de Tweede Wereldoorlog omgekomen joodse Nederlanders en Amersfoortse verzetsstrijders onthuld.\nTer gelegenheid hiervan vertelt secretaris Jos Pothof van de stichting ‘Herdenkingsstenen Amersfoort’ meer over de omgekomen personeelsleden annex verzetsstrijders van de Nederlandse Spoorwegen. \nDeze voordracht is op vrijdag 26 oktober van 16.00 tot 17.00 uur en vindt plaats in de Thema-kamer van het Wijkmuseum.\nDe toegang is gratis. \nDe in graniet uitgevoerde en van namen voorziene stenen worden op woensdag 31 oktober officieel onthuld.\nDe gebeurt met een wandeling door de wijk die om 15.00 uur op het adres Soesterweg 451 begint en om ongeveer 17.00 uur met een slotbijeenkomst in de Westerkerk\, hoek Dollardstraat/Lingestraat wordt afgerond. \nVoor dit project heeft naast een aantal particuliere sponsors ook de gemeente Amersfoort een financiële bijdrage verstrekt.\nMet betrekking tot de inmiddels in de stad geplaatste herdenkingsstenen wordt een speciaal boekje met de namen\, omschrijvingen en (indien beschikbaar) foto’s  van de betrokkenen uitgegeven.\nVerdere bijzonderheden staan HIER
URL:https://wijkmuseumsoesterkwartier.nl/evenement_sws/jos-pothof-vertelt-bij-herdenkingsstenen/
LOCATION:Wijkmuseum Soesterkwartier\, st. Bonifaciusstraat 61\, Amersfoort\, 3812 TD\, Nederland
CATEGORIES:Lezing
ATTACH;FMTTYPE=image/jpeg:https://wijkmuseumsoesterkwartier.nl/wp-content/uploads/2018/10/Herdenkingsstenenwp.jpg
END:VEVENT
BEGIN:VEVENT
DTSTART;TZID=Europe/Amsterdam:20181012T160000
DTEND;TZID=Europe/Amsterdam:20181012T170000
DTSTAMP:20260426T021350
CREATED:20181005T192243Z
LAST-MODIFIED:20230321T202623Z
UID:7006-1539360000-1539363600@wijkmuseumsoesterkwartier.nl
SUMMARY:Lezing Jeroen van Driel
DESCRIPTION:De historicus Jeroen van Driel houdt op vrijdag 12 oktober om 16.00 uur een voordracht in het Wijkmuseum\nHet onderwerp daarvan is de  ‘Spoorwegstaking van september 1944’\, waarover in de Thema-kamer\, achter\nde museumwoning deze maand een expositie plaats vindt. Dat gebeurt in het kader\nvan de landelijke ‘Maand van de Geschiedenis’\, die dit jaar in het teken van het thema OPSTAND staat.\nDe bijbehorende expositie duurt tot en met zaterdag 3 november.\nHet wijkmuseum is iedere zaterdag van 11.00 tot 16.00 uur geopend.\nDe toegang is gratis.\n\nEen gift wordt zeer op prijs gesteld.
URL:https://wijkmuseumsoesterkwartier.nl/evenement_sws/lezing-jeroen-van-driel/
LOCATION:Wijkmuseum Soesterkwartier\, st. Bonifaciusstraat 61\, Amersfoort\, 3812 TD\, Nederland
CATEGORIES:Lezing
ATTACH;FMTTYPE=image/jpeg:https://wijkmuseumsoesterkwartier.nl/wp-content/uploads/2018/10/penning-ter-herinnering-aan-de-spoorwegstaking.jpg
END:VEVENT
END:VCALENDAR