BEGIN:VCALENDAR
VERSION:2.0
PRODID:-//Wijkmuseum Soesterkwartier - ECPv6.15.16//NONSGML v1.0//EN
CALSCALE:GREGORIAN
METHOD:PUBLISH
X-ORIGINAL-URL:https://wijkmuseumsoesterkwartier.nl
X-WR-CALDESC:Evenementen voor Wijkmuseum Soesterkwartier
REFRESH-INTERVAL;VALUE=DURATION:PT1H
X-Robots-Tag:noindex
X-PUBLISHED-TTL:PT1H
BEGIN:VTIMEZONE
TZID:Europe/Amsterdam
BEGIN:DAYLIGHT
TZOFFSETFROM:+0100
TZOFFSETTO:+0200
TZNAME:CEST
DTSTART:20250330T010000
END:DAYLIGHT
BEGIN:STANDARD
TZOFFSETFROM:+0200
TZOFFSETTO:+0100
TZNAME:CET
DTSTART:20251026T010000
END:STANDARD
BEGIN:DAYLIGHT
TZOFFSETFROM:+0100
TZOFFSETTO:+0200
TZNAME:CEST
DTSTART:20260329T010000
END:DAYLIGHT
BEGIN:STANDARD
TZOFFSETFROM:+0200
TZOFFSETTO:+0100
TZNAME:CET
DTSTART:20261025T010000
END:STANDARD
BEGIN:DAYLIGHT
TZOFFSETFROM:+0100
TZOFFSETTO:+0200
TZNAME:CEST
DTSTART:20270328T010000
END:DAYLIGHT
BEGIN:STANDARD
TZOFFSETFROM:+0200
TZOFFSETTO:+0100
TZNAME:CET
DTSTART:20271031T010000
END:STANDARD
BEGIN:DAYLIGHT
TZOFFSETFROM:+0100
TZOFFSETTO:+0200
TZNAME:CEST
DTSTART:20280326T010000
END:DAYLIGHT
BEGIN:STANDARD
TZOFFSETFROM:+0200
TZOFFSETTO:+0100
TZNAME:CET
DTSTART:20281029T010000
END:STANDARD
END:VTIMEZONE
BEGIN:VEVENT
DTSTART;TZID=Europe/Amsterdam:20260427T110000
DTEND;TZID=Europe/Amsterdam:20260427T150000
DTSTAMP:20260425T160036
CREATED:20260423T183634Z
LAST-MODIFIED:20260423T183851Z
UID:8463-1777287600-1777302000@wijkmuseumsoesterkwartier.nl
SUMMARY:Kom naar de Kleedjesmarkt van het Wijkmuseum
DESCRIPTION:Kom op Koningsdag naar de Kleedjesmarkt van het Wijkmuseum. Zoals jullie weten is het Wijkmuseum met een verbouwing bezig\, daar hoort ook opruimen bij. Twee experts hebben ons museumhuisje en de inventaris grondig bekeken. En wat bleek: nogal wat ‘museumstukken’ vallen niet in het tijdperk van de jaren ’30-’50. Daarmee krijgen onze bezoekers een verkeerd beeld. \nUiteraard gooien we deze spullen niet weg. We bieden ze te koop aan tijdens Koningsdag op ons eigen (tafel)kleedje voor het museum. Kom je langs tussen 11.00-15.00 uur om een ‘museumstuk’ te bemachtigen? Je kunt dan ook zien hoe het gaat met onze verbouwing.
URL:https://wijkmuseumsoesterkwartier.nl/evenement_sws/kom-naar-de-kleedjesmarkt-van-het-wijkmuseum/
LOCATION:Wijkmuseum Soesterkwartier\, st. Bonifaciusstraat 61\, Amersfoort\, 3812 TD\, Nederland
CATEGORIES:Open dag
ATTACH;FMTTYPE=image/jpeg:https://wijkmuseumsoesterkwartier.nl/wp-content/uploads/2026/04/WhatsApp-Image-2026-04-20-at-16.24.06-1.jpeg
ORGANIZER;CN="wijkmuseum Soesterkwartier":MAILTO:info@wijkmuseumsoesterkwartier.nl
END:VEVENT
BEGIN:VEVENT
DTSTART;TZID=Europe/Amsterdam:20260505T110000
DTEND;TZID=Europe/Amsterdam:20260505T140000
DTSTAMP:20260425T160036
CREATED:20260408T104153Z
LAST-MODIFIED:20260408T104153Z
UID:8453-1777978800-1777989600@wijkmuseumsoesterkwartier.nl
SUMMARY:Vier samen de vrijheid in het Soesterkwartier
DESCRIPTION:Op dinsdag 5 mei organiseren Wijkmuseum Soesterkwartier en Speeltuin Rivierenwijk de tweede editie van de Vrijheidslunch. Ontmoet buren\, vrienden\, kennissen en nieuwe buurtgenoten\, deel je verhaal en praat samen over vrijheid en onvrijheid. \nDe Vrijheidslunch is gratis toegankelijk en is voor iedereen uit het Soesterkwartier. Ook kinderen vanaf 8 jaar zijn welkom\, samen met een volwassene. Met deze lunch willen wij ruimte maken voor ontmoeting\, gesprek en verbinding in de wijk. Vrijheid lijkt vanzelfsprekend\, maar is dat niet. Juist daarom is het waardevol om daar op Bevrijdingsdag samen bij stil te staan. \nNaast samen eten is er ook ruimte voor verdieping en ontmoeting. Het programma start om 11.00 uur met inloop. Van 11.15 tot 12.00 uur praten we samen over de vraag: Wat betekent vrijheid voor jou? Aansluitend volgt van 12.00 tot 14.00 uur de opening en de Vrijheidslunch. Tijdens de lunch is er muziek uit de wijk door muzikant Kees Gootjes van LoudWithLight. Wij zorgen voor Vrijheidssoep\, broodjes en drinken. We nodigen je uit ook zelf iets mee te nemen om te delen. \nPraktische informatie\nWat: Vrijheidslunch Soesterkwartier\nWanneer: dinsdag 5 mei 2026\nTijd: 11.00 – 14.00 uur\nLocatie: Speeltuin Rivierenwijk\, Dollardstraat 119\, Amersfoort\nVoor wie: gratis\, voor iedereen uit het Soesterkwartier; kinderen vanaf 8 jaar welkom samen met een volwassene\nAanmelden via: info@wijkmuseumsoesterkwartier.nl
URL:https://wijkmuseumsoesterkwartier.nl/evenement_sws/vier-samen-de-vrijheid-in-het-soesterkwartier/
LOCATION:Speeltuinvereniging Rivierenwijk\, Dollardstraat 119\, Amersfoort
CATEGORIES:Ontmoeten
ATTACH;FMTTYPE=image/jpeg:https://wijkmuseumsoesterkwartier.nl/wp-content/uploads/2026/04/Vrijheidslunch-Soesterkwartier-5-mei-2025.jpeg
END:VEVENT
BEGIN:VEVENT
DTSTART;TZID=Europe/Amsterdam:20260704T000000
DTEND;TZID=Europe/Amsterdam:20270101T000000
DTSTAMP:20260425T160036
CREATED:20260312T142515Z
LAST-MODIFIED:20260312T142602Z
UID:8434-1783123200-1798761600@wijkmuseumsoesterkwartier.nl
SUMMARY:Verwacht: Van huisvlijt tot draadkracht
DESCRIPTION:Samen maken\, samen herinneren\, samen verbinden \nVan huisvlijt tot draadkracht is een project van het Wijkmuseum Soesterkwartier\, gemaakt samen met de bewoners van de wijk. We gaan onderzoeken hoe belangrijk textiel altijd is geweest in het Soesterkwartier — van zelfgemaakte kleding tot spandoeken\, van oude naaimachines tot borduurwerk. Textiel vertelt het verhaal van gewone mensen\, van families\, van de wijk zelf. Van huisvlijt tot draadkracht gaat begin juli 2026 van start in een vernieuwd Wijkmuseum! Met deze tentoonstelling luit het Wijkmuseum aan bij Amersfoort Textielstad. \n  \nTextiel uit de wijk \nOnze collectie bestaat vooral uit spullen die bewoners zelf hebben ingebracht. Denk aan kleding\, tafellakens\, doopjurken\, naaidozen en zelfgemaakte werkstukken. Samen bekijken we deze spullen opnieuw: wat betekenen ze\, welke herinneringen horen erbij\, en welke verhalen willen we bewaren. \nIedereen kan meedoen \nIn het Soesterkwartier is de kracht van de wijk altijd gekomen van samen de schouders eronder zetten. Daarom werken we in dit project met workshops\, bijeenkomsten en open inloopmomenten.\nBijvoorbeeld: \n\nBorduren en repareren\nFixing fashion (kleren herstellen en mooier maken)\nBannieren maken over onderwerpen die in de wijk spelen\nSamen verhalen ophalen uit vroeger en nu. Tijdens het maken ontstaan vanzelf gesprekken. Mensen die elkaar misschien niet eens kennen\, zitten samen aan tafel. Dat zorgt voor nieuwe verbindingen en meer begrip voor elkaar.\n\nEen tentoonstelling die blijft groeien \nHet mooie van dit project: de tentoonstelling verandert steeds. Alles wat bewoners maken — borduurwerk\, verhalen\, foto’s\, reparaties — wordt direct toegevoegd. Zo zie je in het museum steeds meer terug van de wijk en haar mensen. Bewoners zijn dus niet alleen bezoekers\, maar mede-makers en mede-eigenaren van wat er te zien is. \nZacht activisme: laten zien wat belangrijk is \nHet Soesterkwartier staat bekend om zijn betrokken bewoners. In dit project gebruiken we handwerk als een rustige\, vriendelijke manier om aandacht te vragen voor wat mensen belangrijk vinden: samenleven\, duurzaamheid\, verbinding en zorg voor elkaar. Niet met harde woorden\, maar met naald en draad. \nOok voor kinderen en jongeren \nKinderen uit de wijk doen mee via een speciaal schoolprogramma. Ze leren hoe er vroeger met textiel werd gewerkt\, maken hun eigen draad en verwerken daarin hun wens voor de wijk. Zo geven zij hun eigen stem aan de toekomst van het Soesterkwartier. \nHet Soesterkwartier weeft verder \nMet Van huisvlijt tot draadkracht bouwen we samen aan een buurt waar mensen elkaar kennen\, waar verhalen worden gedeeld en waar iedereen welkom is om mee te doen. Door te maken\, te herinneren en te verbinden willen we laten zien hoe sterk onze wijk is — vroeger\, nu en in de toekomst. \nDe tentoonstelling is mede mogelijk gemaakt door het Fonds Cultuurparticipatie
URL:https://wijkmuseumsoesterkwartier.nl/evenement_sws/verwacht-van-huisvlijt-tot-draadkracht/
LOCATION:Wijkmuseum Soesterkwartier\, st. Bonifaciusstraat 61\, Amersfoort\, 3812 TD\, Nederland
CATEGORIES:Tentoonstelling
ATTACH;FMTTYPE=image/jpeg:https://wijkmuseumsoesterkwartier.nl/wp-content/uploads/2026/03/Theedoek.jpg
ORGANIZER;CN="wijkmuseum Soesterkwartier":MAILTO:info@wijkmuseumsoesterkwartier.nl
END:VEVENT
END:VCALENDAR