BEGIN:VCALENDAR
VERSION:2.0
PRODID:-//Wijkmuseum Soesterkwartier - ECPv6.15.16//NONSGML v1.0//EN
CALSCALE:GREGORIAN
METHOD:PUBLISH
X-ORIGINAL-URL:https://wijkmuseumsoesterkwartier.nl
X-WR-CALDESC:Evenementen voor Wijkmuseum Soesterkwartier
REFRESH-INTERVAL;VALUE=DURATION:PT1H
X-Robots-Tag:noindex
X-PUBLISHED-TTL:PT1H
BEGIN:VTIMEZONE
TZID:Europe/Amsterdam
BEGIN:DAYLIGHT
TZOFFSETFROM:+0100
TZOFFSETTO:+0200
TZNAME:CEST
DTSTART:20230326T010000
END:DAYLIGHT
BEGIN:STANDARD
TZOFFSETFROM:+0200
TZOFFSETTO:+0100
TZNAME:CET
DTSTART:20231029T010000
END:STANDARD
BEGIN:DAYLIGHT
TZOFFSETFROM:+0100
TZOFFSETTO:+0200
TZNAME:CEST
DTSTART:20240331T010000
END:DAYLIGHT
BEGIN:STANDARD
TZOFFSETFROM:+0200
TZOFFSETTO:+0100
TZNAME:CET
DTSTART:20241027T010000
END:STANDARD
BEGIN:DAYLIGHT
TZOFFSETFROM:+0100
TZOFFSETTO:+0200
TZNAME:CEST
DTSTART:20250330T010000
END:DAYLIGHT
BEGIN:STANDARD
TZOFFSETFROM:+0200
TZOFFSETTO:+0100
TZNAME:CET
DTSTART:20251026T010000
END:STANDARD
END:VTIMEZONE
BEGIN:VEVENT
DTSTART;TZID=Europe/Amsterdam:20240626T200000
DTEND;TZID=Europe/Amsterdam:20240626T213000
DTSTAMP:20260425T163623
CREATED:20240611T093538Z
LAST-MODIFIED:20240620T134517Z
UID:7774-1719432000-1719437400@wijkmuseumsoesterkwartier.nl
SUMMARY:Robin de Wever - Welkom in de Volksbuurt
DESCRIPTION:Robin de Wever is journalist\, podcastmaker en woont in het Soesterkwartier. Hij maakt docu’s en vertelt verhalen. In de vijfdelige serie ‘Welkom in de volksbuurt’ onderzocht hij voor Omroep MAX/NPO Radio 1 zijn eigen buurt het Soesterkwartier. Want wat als je volksbuurt ontdekt wordt door yuppen? En de huizenprijzen ook nog eens omhoogschieten? \nOp 26 juni interviewt voorzitter van het Wijkmuseum Yvonne Ploum Robin over zijn relatie met het Soesterkwartier. Hierin staan een aantal thema’s centraal zoals verbinding. Ook is er ruimte om zelf vragen te stellen. \nVoorafgaand aan dit gesprek is er de mogelijkheid om aan te sluiten bij een kennismaking met het Wijkberaad G1000Soesterkwartier. Je bent welkom vanaf 19.00 uur om meer te horen over dit initiatief en hoe samenwerking en verbinding de wijk verder brengen. \nKosten: gratis \nMeld je aan via info@wijkmuseumsoesterkwartier.nl \nDeze activiteit is mede mogelijk gemaakt door de subsidie van Gemeente Amersfoort en Indebuurt033.
URL:https://wijkmuseumsoesterkwartier.nl/evenement_sws/robin-de-wever-welkom-in-de-volksbuurt/
LOCATION:Wijkmuseum Soesterkwartier\, st. Bonifaciusstraat 61\, Amersfoort\, 3812 TD\, Nederland
CATEGORIES:Interview,Lezing
ATTACH;FMTTYPE=image/jpeg:https://wijkmuseumsoesterkwartier.nl/wp-content/uploads/2024/06/IMG_2446.jpg
ORGANIZER;CN="Wijkmuseum":MAILTO:info@wijkmuseumsoesterkwartier.nl
END:VEVENT
END:VCALENDAR