BEGIN:VCALENDAR
VERSION:2.0
PRODID:-//Wijkmuseum Soesterkwartier - ECPv6.15.16//NONSGML v1.0//EN
CALSCALE:GREGORIAN
METHOD:PUBLISH
X-ORIGINAL-URL:https://wijkmuseumsoesterkwartier.nl
X-WR-CALDESC:Evenementen voor Wijkmuseum Soesterkwartier
REFRESH-INTERVAL;VALUE=DURATION:PT1H
X-Robots-Tag:noindex
X-PUBLISHED-TTL:PT1H
BEGIN:VTIMEZONE
TZID:Europe/Amsterdam
BEGIN:DAYLIGHT
TZOFFSETFROM:+0100
TZOFFSETTO:+0200
TZNAME:CEST
DTSTART:20240331T010000
END:DAYLIGHT
BEGIN:STANDARD
TZOFFSETFROM:+0200
TZOFFSETTO:+0100
TZNAME:CET
DTSTART:20241027T010000
END:STANDARD
BEGIN:DAYLIGHT
TZOFFSETFROM:+0100
TZOFFSETTO:+0200
TZNAME:CEST
DTSTART:20250330T010000
END:DAYLIGHT
BEGIN:STANDARD
TZOFFSETFROM:+0200
TZOFFSETTO:+0100
TZNAME:CET
DTSTART:20251026T010000
END:STANDARD
BEGIN:DAYLIGHT
TZOFFSETFROM:+0100
TZOFFSETTO:+0200
TZNAME:CEST
DTSTART:20260329T010000
END:DAYLIGHT
BEGIN:STANDARD
TZOFFSETFROM:+0200
TZOFFSETTO:+0100
TZNAME:CET
DTSTART:20261025T010000
END:STANDARD
END:VTIMEZONE
BEGIN:VEVENT
DTSTART;TZID=Europe/Amsterdam:20250927T000000
DTEND;TZID=Europe/Amsterdam:20251231T000000
DTSTAMP:20260425T143212
CREATED:20250911T160539Z
LAST-MODIFIED:20251013T123935Z
UID:8282-1758931200-1767139200@wijkmuseumsoesterkwartier.nl
SUMMARY:Nu te zien: tentoonstelling 'De Wagenwerkplaats op het Spoor’.
DESCRIPTION:In 2025 is het 25 jaar geleden dat de Wagenwerkplaats haar deuren sloot. Daarmee kwam een einde aan een roemruchte geschiedenis die bijna een eeuw lang duurde. Ter gelegenheid hiervan organiseert het Wijkmuseum Soesterkwartier de tentoonstelling ‘De Wagenwerkplaats op het Spoor’. \nDe Wagenwerkplaats is van groot belang geweest voor de ontwikkeling van de wijk Soesterkwartier. De wijk verwelkomde vele nieuwe bewoners\, nieuwe huizen werden gebouwd en de wijk ontwikkelde zich in rap tempo. Na de sluiting bleef de wagenwerkplaats dankzij burgerinitiatieven behouden voor de wijk en kreeg een belangrijke plek in de gemeenschap. \nDe komende jaren gaat er veel gebeuren op en rond de wagenwerkplaats en in de wijk vanwege de ontwikkeling van het nieuwe stadsdeel Langs Eem en Spoor. Naast de tentoonstelling organiseert het Wijkmuseum verschillende activiteiten waarbij we kijken naar het verleden én de toekomst. Wie waren en zijn de mensen van het begin en het heden en wie bepalen de toekomst van de plek? \nVanaf zaterdag 27 september kun je tentoonstelling bezoeken in het Wijkmuseum Soesterkwartier. \nDe tentoonstelling is mede mogelijk gemaakt door de Gemeente Amersfoort\, het K.F. Hein Fonds en stichting Mien van ’t Sant Fonds. \nBeeld: NS Materieel Wagenbedrijf Amersfoort
URL:https://wijkmuseumsoesterkwartier.nl/evenement_sws/vanaf-27-september-te-zien-tentoonstelling-de-wagenwerkplaats-op-het-spoor/
CATEGORIES:Tentoonstelling
ATTACH;FMTTYPE=image/jpeg:https://wijkmuseumsoesterkwartier.nl/wp-content/uploads/2025/09/NS-Materieel-Wagenbedrijf-Amersfoort.jpg
END:VEVENT
BEGIN:VEVENT
DTSTART;TZID=Europe/Amsterdam:20251122T100000
DTEND;TZID=Europe/Amsterdam:20251122T120000
DTSTAMP:20260425T143212
CREATED:20251020T105927Z
LAST-MODIFIED:20251020T111340Z
UID:8316-1763805600-1763812800@wijkmuseumsoesterkwartier.nl
SUMMARY:Een duik in de geschiedenis; de strijd voor het behoud. Op excursie met SIESTA
DESCRIPTION:Het had niet veel gescheeld of de Wagenwerkplaats was met de grond gelijk gemaakt. Gelukkig waren er mensen die de waarde van dit verlaten industrieel complex zagen. Zo begon een strijd voor behoud\, die leidde tot de monumentenstatus van de belangrijke gebouwen en de oprichting van de Stichting Industrieel Erfgoed Stad Amersfoort. \nMaar wat zijn nu die erfgoedwaarden en hoe kun je die zien? Samen met Sjoerd Hekking en David de Vries van SIESTA bezoeken we op 22 november om 10.00 uur de Wagenwerkplaats en horen we alles over de strijd voor het behoud van de bijzondere waarden van deze plek. Het is een fietsexcursie dus neem je fiets mee. \nWanneer: 22 november\nTijd: 10.00 uur\nVerzamelen bij Wijkmuseum Soesterkwartier voor deze fietsexcursie\nAanmelden is verplicht via info@wijkmuseumsoesterkwartier.nl Er is plek voor max. 40 mensen\nKosten: gratis
URL:https://wijkmuseumsoesterkwartier.nl/evenement_sws/een-duik-in-de-geschiedenis-de-strijd-voor-het-behoud-op-excursie-met-siesta/
LOCATION:Wijkmuseum Soesterkwartier\, st. Bonifaciusstraat 61\, Amersfoort\, 3812 TD\, Nederland
CATEGORIES:Volwassenen activiteit
ATTACH;FMTTYPE=image/jpeg:https://wijkmuseumsoesterkwartier.nl/wp-content/uploads/2025/10/museum-6.jpg
ORGANIZER;CN="wijkmuseum Soesterkwartier":MAILTO:info@wijkmuseumsoesterkwartier.nl
END:VEVENT
END:VCALENDAR