BEGIN:VCALENDAR
VERSION:2.0
PRODID:-//Wijkmuseum Soesterkwartier - ECPv6.15.16//NONSGML v1.0//EN
CALSCALE:GREGORIAN
METHOD:PUBLISH
X-ORIGINAL-URL:https://wijkmuseumsoesterkwartier.nl
X-WR-CALDESC:Evenementen voor Wijkmuseum Soesterkwartier
REFRESH-INTERVAL;VALUE=DURATION:PT1H
X-Robots-Tag:noindex
X-PUBLISHED-TTL:PT1H
BEGIN:VTIMEZONE
TZID:Europe/Amsterdam
BEGIN:DAYLIGHT
TZOFFSETFROM:+0100
TZOFFSETTO:+0200
TZNAME:CEST
DTSTART:20240331T010000
END:DAYLIGHT
BEGIN:STANDARD
TZOFFSETFROM:+0200
TZOFFSETTO:+0100
TZNAME:CET
DTSTART:20241027T010000
END:STANDARD
BEGIN:DAYLIGHT
TZOFFSETFROM:+0100
TZOFFSETTO:+0200
TZNAME:CEST
DTSTART:20250330T010000
END:DAYLIGHT
BEGIN:STANDARD
TZOFFSETFROM:+0200
TZOFFSETTO:+0100
TZNAME:CET
DTSTART:20251026T010000
END:STANDARD
BEGIN:DAYLIGHT
TZOFFSETFROM:+0100
TZOFFSETTO:+0200
TZNAME:CEST
DTSTART:20260329T010000
END:DAYLIGHT
BEGIN:STANDARD
TZOFFSETFROM:+0200
TZOFFSETTO:+0100
TZNAME:CET
DTSTART:20261025T010000
END:STANDARD
END:VTIMEZONE
BEGIN:VEVENT
DTSTART;TZID=Europe/Amsterdam:20250813T133000
DTEND;TZID=Europe/Amsterdam:20250813T150000
DTSTAMP:20260425T194115
CREATED:20250719T081808Z
LAST-MODIFIED:20250719T081948Z
UID:8251-1755091800-1755097200@wijkmuseumsoesterkwartier.nl
SUMMARY:Kinderworkshop vakantiepost
DESCRIPTION:Kom langs in het museum en schrijf\, teken en kleur een ansichtkaart voor oudere mensen in Amersfoort die in de zomervakantie geen post krijgen. Wij zorgen dat jouw kaart iemand blij gaat maken. \nWanneer: 13 augustus\nTijd: 13.30-15.00 uur\nWaar: Wijkmuseum Soesterkwartier\nAanmelden: niet nodig maar begeleiding van een ouder/verzorger is verplicht. \nVergeet je ZomerPretPas niet!
URL:https://wijkmuseumsoesterkwartier.nl/evenement_sws/8251/
LOCATION:Wijkmuseum Soesterkwartier\, st. Bonifaciusstraat 61\, Amersfoort\, 3812 TD\, Nederland
CATEGORIES:Kinderactiviteit
ATTACH;FMTTYPE=image/jpeg:https://wijkmuseumsoesterkwartier.nl/wp-content/uploads/2025/07/ZPP_agenda_44.jpg
END:VEVENT
BEGIN:VEVENT
DTSTART;TZID=Europe/Amsterdam:20250813T133000
DTEND;TZID=Europe/Amsterdam:20250813T153000
DTSTAMP:20260425T194115
CREATED:20250719T080006Z
LAST-MODIFIED:20250719T080006Z
UID:8234-1755091800-1755099000@wijkmuseumsoesterkwartier.nl
SUMMARY:Kinderworkshop sleutelhanger maken
DESCRIPTION:Ontdek in het museum de tentoonstelling ‘Verenigd Soesterkwartier’. Na afloop kun je aan de knutseltafel jouw favoriete circusfiguur op een sleutelhanger van kurk tekenen en kleuren. Wordt het een sterke man\, clown of acrobaat. \nWanneer: 13 augustus\nTijd: 13.30-15.30 uur\nWaar: Wijkmuseum Soesterkwartier\nKosten: gratis\nAanmelden via: niet nodig\, maar begeleiding van een ouder/verzorger is verplicht. \nVergeet je ZomerPretPas niet!
URL:https://wijkmuseumsoesterkwartier.nl/evenement_sws/kinderworkshop-sleutelhanger-maken-2/
LOCATION:Wijkmuseum Soesterkwartier\, st. Bonifaciusstraat 61\, Amersfoort\, 3812 TD\, Nederland
CATEGORIES:Kinderactiviteit
ATTACH;FMTTYPE=image/jpeg:https://wijkmuseumsoesterkwartier.nl/wp-content/uploads/2025/07/ZPP_agenda_42.jpg
END:VEVENT
END:VCALENDAR